Package: ABarray Version: 1.74.0 Command: rm -rf ABarray.buildbin-libdir && mkdir ABarray.buildbin-libdir && F:\biocbuild\bbs-3.20-bioc\R\bin\R.exe CMD INSTALL --build --library=ABarray.buildbin-libdir ABarray_1.74.0.tar.gz StartedAt: 2025-02-04 07:55:38 -0500 (Tue, 04 Feb 2025) EndedAt: 2025-02-04 07:56:14 -0500 (Tue, 04 Feb 2025) EllapsedTime: 36.3 seconds RetCode: 0 Status: OK PackageFile: ABarray_1.74.0.zip PackageFileSize: 511.5 KiB