Package: ABSSeq Version: 1.60.0 Command: /home/biocbuild/R/R/bin/R CMD build --keep-empty-dirs --no-resave-data ABSSeq StartedAt: 2025-01-30 21:27:09 -0000 (Thu, 30 Jan 2025) EndedAt: 2025-01-30 21:28:50 -0000 (Thu, 30 Jan 2025) EllapsedTime: 101.1 seconds RetCode: 0 Status: OK PackageFile: ABSSeq_1.60.0.tar.gz PackageFileSize: 1.067 MiB