Package: ABSSeq Version: 1.60.0 Command: chmod a+r ABSSeq -R && F:\biocbuild\bbs-3.20-bioc\R\bin\R.exe CMD build --keep-empty-dirs --no-resave-data ABSSeq StartedAt: 2025-03-31 17:15:18 -0400 (Mon, 31 Mar 2025) EndedAt: 2025-03-31 17:17:19 -0400 (Mon, 31 Mar 2025) EllapsedTime: 121.0 seconds RetCode: 0 Status: OK PackageFile: ABSSeq_1.60.0.tar.gz PackageFileSize: 995.4 KiB