Package: ABSSeq Version: 1.60.0 Command: /Library/Frameworks/R.framework/Resources/bin/R CMD check --install=check:ABSSeq.install-out.txt --library=/Library/Frameworks/R.framework/Resources/library --no-vignettes --timings ABSSeq_1.60.0.tar.gz StartedAt: 2025-01-31 10:28:43 -0500 (Fri, 31 Jan 2025) EndedAt: 2025-01-31 10:30:58 -0500 (Fri, 31 Jan 2025) EllapsedTime: 135.5 seconds RetCode: 0 Status: OK CheckDir: ABSSeq.Rcheck Warnings: 0