Welcome to mirrors.dotsrc.org

All our mirrors of open source software are available via http, https, ftp and an onion service. More information about our mirrors including statistics and contact information is available on our mirror info pages.

For information about dotsrc.org and our other services please go to our website.

Index of /bioconductor/checkResults/3.20/bioc-LATEST/

File Name  ↓ File Size  ↓ Date  ↓ 
Parent directory/--
ABSSeq/-2025-02-06 17:11:14
ABarray/-2025-02-06 17:11:14
ACE/-2025-02-06 17:11:14
ACME/-2025-02-06 17:11:14
ADAM/-2025-02-06 17:11:14
ADAMgui/-2025-02-06 17:11:14
ADAPT/-2025-02-06 17:11:15
ADImpute/-2025-02-06 17:11:15
ADaCGH2/-2025-02-06 17:11:14
AGDEX/-2025-02-06 17:11:15
AHMassBank/-2025-02-06 17:11:15
AIMS/-2025-02-06 17:11:15
ALDEx2/-2025-02-06 17:11:16
AMARETTO/-2025-02-06 17:11:16
AMOUNTAIN/-2025-02-06 17:11:16
ANCOMBC/-2025-02-06 17:11:16
ANF/-2025-02-06 17:11:16
APAlyzer/-2025-02-06 17:11:17
APL/-2025-02-06 17:11:17
ARRmNormalization/-2025-02-06 17:11:17
ASAFE/-2025-02-06 17:11:17
ASEB/-2025-02-06 17:11:17
ASGSCA/-2025-02-06 17:11:17
ASICS/-2025-02-06 17:11:17
ASSET/-2025-02-06 17:11:17
ASSIGN/-2025-02-06 17:11:18
ASURAT/-2025-02-06 17:11:18
ASpli/-2025-02-06 17:11:17
ATACCoGAPS/-2025-02-06 17:11:18
ATACseqQC/-2025-02-06 17:11:18
ATACseqTFEA/-2025-02-06 17:11:18
AUCell/-2025-02-06 17:11:18
AWFisher/-2025-02-06 17:11:18
AffiXcan/-2025-02-06 17:11:15
AffyRNADegradation/-2025-02-06 17:11:15
AgiMicroRna/-2025-02-06 17:11:15
AllelicImbalance/-2025-02-06 17:11:16
AlphaBeta/-2025-02-06 17:11:16
AlphaMissenseR/-2025-02-06 17:11:16
AlpsNMR/-2025-02-06 17:11:16
AnVIL/-2025-02-06 17:11:17
AnVILAz/-2025-02-06 17:11:17
AnVILBase/-2025-02-06 17:11:17
AnVILBilling/-2025-02-06 17:11:17
AnVILGCP/-2025-02-06 17:11:17
AnVILPublish/-2025-02-06 17:11:17
AnVILWorkflow/-2025-02-06 17:11:17
Anaquin/-2025-02-06 17:11:16
AneuFinder/-2025-02-06 17:11:16
AnnotationDbi/-2025-02-06 17:11:16
AnnotationFilter/-2025-02-06 17:11:16
AnnotationForge/-2025-02-06 17:11:16
AnnotationHub/-2025-02-06 17:11:16
AnnotationHubData/-2025-02-06 17:11:16
ArrayExpress/-2025-02-06 17:11:17
AssessORF/-2025-02-06 17:11:17
BADER/-2025-02-06 17:11:18
BAGS/-2025-02-06 17:11:18
BANDITS/-2025-02-06 17:11:18
BASiCS/-2025-02-06 17:11:18
BASiCStan/-2025-02-06 17:11:18
BBCAnalyzer/-2025-02-06 17:11:19
BCRANK/-2025-02-06 17:11:19
BEARscc/-2025-02-06 17:11:19
BEAT/-2025-02-06 17:11:19
BERT/-2025-02-06 17:11:19
BEclear/-2025-02-06 17:11:19
BG2/-2025-02-06 17:11:20
BLMA/-2025-02-06 17:11:22
BOBaFIT/-2025-02-06 17:11:22
BPRMeth/-2025-02-06 17:11:22
BRAIN/-2025-02-06 17:11:22
BREW3R.r/-2025-02-06 17:11:22
BRGenomics/-2025-02-06 17:11:22
BSgenome/-2025-02-06 17:11:22
BSgenomeForge/-2025-02-06 17:11:23
BUMHMM/-2025-02-06 17:11:23
BUS/-2025-02-06 17:11:23
BUScorrect/-2025-02-06 17:11:23
BUSpaRse/-2025-02-06 17:11:23
BUSseq/-2025-02-06 17:11:23
BaalChIP/-2025-02-06 17:11:18
BadRegionFinder/-2025-02-06 17:11:18
Banksy/-2025-02-06 17:11:18
BaseSpaceR/-2025-02-06 17:11:18
Basic4Cseq/-2025-02-06 17:11:18
BasicSTARRseq/-2025-02-06 17:11:19
BatchQC/-2025-02-06 17:11:19
BayesKnockdown/-2025-02-06 17:11:19
BayesSpace/-2025-02-06 17:11:19
BeadDataPackR/-2025-02-06 17:11:19
BgeeCall/-2025-02-06 17:11:20
BgeeDB/-2025-02-06 17:11:20
BiFET/-2025-02-06 17:11:20
BiGGR/-2025-02-06 17:11:20
BiRewire/-2025-02-06 17:11:22
BiSeq/-2025-02-06 17:11:22
BicARE/-2025-02-06 17:11:20
BindingSiteFinder/-2025-02-06 17:11:20
BioCartaImage/-2025-02-06 17:11:20
BioCor/-2025-02-06 17:11:20
BioGA/-2025-02-06 17:11:21
BioMVCClass/-2025-02-06 17:11:21
BioNAR/-2025-02-06 17:11:21
BioNERO/-2025-02-06 17:11:21
BioNet/-2025-02-06 17:11:21
BioQC/-2025-02-06 17:11:22
BioTIP/-2025-02-06 17:11:22
Biobase/-2025-02-06 17:11:20
BiocBaseUtils/-2025-02-06 17:11:20
BiocBook/-2025-02-06 17:11:20
BiocCheck/-2025-02-06 17:11:20
BiocFHIR/-2025-02-06 17:11:20
BiocFileCache/-2025-02-06 17:11:20
BiocGenerics/-2025-02-06 17:11:20
BiocHail/-2025-02-06 17:11:20
BiocHubsShiny/-2025-02-06 17:11:20
BiocIO/-2025-02-06 17:11:20
BiocNeighbors/-2025-02-06 17:11:20
BiocOncoTK/-2025-02-06 17:11:20
BiocParallel/-2025-02-06 17:11:20
BiocPkgTools/-2025-02-06 17:11:20
BiocSet/-2025-02-06 17:11:20
BiocSingular/-2025-02-06 17:11:21
BiocSklearn/-2025-02-06 17:11:21
BiocStyle/-2025-02-06 17:11:21
BiocVersion/-2025-02-06 17:11:21
BiocWorkflowTools/-2025-02-06 17:11:21
Biostrings/-2025-02-06 17:11:22
BloodGen3Module/-2025-02-06 17:11:22
BridgeDbR/-2025-02-06 17:11:22
BrowserViz/-2025-02-06 17:11:22
BubbleTree/-2025-02-06 17:11:23
BufferedMatrix/-2025-02-06 17:11:23
BufferedMatrixMethods/-2025-02-06 17:11:23
BumpyMatrix/-2025-02-06 17:11:23
CAEN/-2025-02-06 17:11:23
CAFE/-2025-02-06 17:11:23
CAGEfightR/-2025-02-06 17:11:23
CAGEr/-2025-02-06 17:11:23
CAMERA/-2025-02-06 17:11:23
CARNIVAL/-2025-02-06 17:11:23
CATALYST/-2025-02-06 17:11:23
CBEA/-2025-02-06 17:11:24
CBNplot/-2025-02-06 17:11:24
CCPROMISE/-2025-02-06 17:11:24
CCPlotR/-2025-02-06 17:11:24
CDI/-2025-02-06 17:11:24
CEMiTool/-2025-02-06 17:11:25
CFAssay/-2025-02-06 17:11:25
CGEN/-2025-02-06 17:11:25
CGHbase/-2025-02-06 17:11:25
CGHcall/-2025-02-06 17:11:25
CGHnormaliter/-2025-02-06 17:11:25
CGHregions/-2025-02-06 17:11:25
CHETAH/-2025-02-06 17:11:25
CHRONOS/-2025-02-06 17:11:26
CIMICE/-2025-02-06 17:11:26
CINdex/-2025-02-06 17:11:26
CMA/-2025-02-06 17:11:27
CNAnorm/-2025-02-06 17:11:28
CNEr/-2025-02-06 17:11:28
CNORdt/-2025-02-06 17:11:28
CNORfeeder/-2025-02-06 17:11:28
CNORfuzzy/-2025-02-06 17:11:28
CNORode/-2025-02-06 17:11:28
CNTools/-2025-02-06 17:11:28
CNVMetrics/-2025-02-06 17:11:28
CNVPanelizer/-2025-02-06 17:11:28
CNVRanger/-2025-02-06 17:11:28
CNVfilteR/-2025-02-06 17:11:28
CNViz/-2025-02-06 17:11:28
CNVrd2/-2025-02-06 17:11:28
COCOA/-2025-02-06 17:11:28
CODEX/-2025-02-06 17:11:28
COMPASS/-2025-02-06 17:11:28
CONFESS/-2025-02-06 17:11:29
CONSTANd/-2025-02-06 17:11:29
COSNet/-2025-02-06 17:11:30
COTAN/-2025-02-06 17:11:30
CRISPRball/-2025-02-06 17:11:30
CRISPRseek/-2025-02-06 17:11:30
CRImage/-2025-02-06 17:11:30
CSAR/-2025-02-06 17:11:30
CSSQ/-2025-02-06 17:11:30
CTDquerier/-2025-02-06 17:11:31
CTSV/-2025-02-06 17:11:31
CTdata/-2025-02-06 17:11:30
CTexploreR/-2025-02-06 17:11:31
CaDrA/-2025-02-06 17:11:23
CaMutQC/-2025-02-06 17:11:23
Cardinal/-2025-02-06 17:11:23
CardinalIO/-2025-02-06 17:11:23
Category/-2025-02-06 17:11:23
CatsCradle/-2025-02-06 17:11:24
CausalR/-2025-02-06 17:11:24
CeTF/-2025-02-06 17:11:25
CellBarcode/-2025-02-06 17:11:24
CellBench/-2025-02-06 17:11:24
CellMapper/-2025-02-06 17:11:24
CellMixS/-2025-02-06 17:11:24
CellNOptR/-2025-02-06 17:11:24
CellScore/-2025-02-06 17:11:25
CellTrails/-2025-02-06 17:11:25
CellaRepertorium/-2025-02-06 17:11:24
CelliD/-2025-02-06 17:11:24
Cepo/-2025-02-06 17:11:25
CexoR/-2025-02-06 17:11:25
ChAMP/-2025-02-06 17:11:25
ChIPComp/-2025-02-06 17:11:25
ChIPQC/-2025-02-06 17:11:26
ChIPXpress/-2025-02-06 17:11:26
ChIPanalyser/-2025-02-06 17:11:25
ChIPexoQual/-2025-02-06 17:11:26
ChIPpeakAnno/-2025-02-06 17:11:26
ChIPseeker/-2025-02-06 17:11:26
ChIPseqR/-2025-02-06 17:11:26
ChIPsim/-2025-02-06 17:11:26
ChemmineOB/-2025-02-06 17:11:25
ChemmineR/-2025-02-06 17:11:25
Chicago/-2025-02-06 17:11:25
ChromHeatMap/-2025-02-06 17:11:26
ChromSCape/-2025-02-06 17:11:26
CircSeqAlignTk/-2025-02-06 17:11:26
CiteFuse/-2025-02-06 17:11:26
ClassifyR/-2025-02-06 17:11:26
CleanUpRNAseq/-2025-02-06 17:11:26
Clomial/-2025-02-06 17:11:27
CluMSID/-2025-02-06 17:11:27
ClustAll/-2025-02-06 17:11:27
ClustIRR/-2025-02-06 17:11:27
ClusterFoldSimilarity/-2025-02-06 17:11:27
ClusterJudge/-2025-02-06 17:11:27
ClusterSignificance/-2025-02-06 17:11:27
CoCiteStats/-2025-02-06 17:11:28
CoGAPS/-2025-02-06 17:11:28
CoSIA/-2025-02-06 17:11:29
Cogito/-2025-02-06 17:11:28
ComPrAn/-2025-02-06 17:11:29
ComplexHeatmap/-2025-02-06 17:11:29
CompoundDb/-2025-02-06 17:11:29
ConsensusClusterPlus/-2025-02-06 17:11:29
CopyNumberPlots/-2025-02-06 17:11:29
CoreGx/-2025-02-06 17:11:29
Cormotif/-2025-02-06 17:11:29
CoverageView/-2025-02-06 17:11:30
CrispRVariants/-2025-02-06 17:11:30
CuratedAtlasQueryR/-2025-02-06 17:11:31
CyTOFpower/-2025-02-06 17:11:31
CytoDx/-2025-02-06 17:11:31
CytoGLMM/-2025-02-06 17:11:31
CytoMDS/-2025-02-06 17:11:31
CytoML/-2025-02-06 17:11:31
CytoPipeline/-2025-02-06 17:11:31
CytoPipelineGUI/-2025-02-06 17:11:31
DAMEfinder/-2025-02-06 17:11:32
DAPAR/-2025-02-06 17:11:32
DART/-2025-02-06 17:11:32
DCATS/-2025-02-06 17:11:32
DECIPHER/-2025-02-06 17:11:32
DEFormats/-2025-02-06 17:11:32
DEGraph/-2025-02-06 17:11:33
DEGreport/-2025-02-06 17:11:33
DEGseq/-2025-02-06 17:11:33
DELocal/-2025-02-06 17:11:33
DEP/-2025-02-06 17:11:33
DEScan2/-2025-02-06 17:11:33
DESeq2/-2025-02-06 17:11:33
DESpace/-2025-02-06 17:11:33
DEWSeq/-2025-02-06 17:11:33
DEXSeq/-2025-02-06 17:11:34
DEqMS/-2025-02-06 17:11:33
DEsingle/-2025-02-06 17:11:33
DEsubs/-2025-02-06 17:11:33
DExMA/-2025-02-06 17:11:34
DFP/-2025-02-06 17:11:34
DFplyr/-2025-02-06 17:11:34
DIAlignR/-2025-02-06 17:11:34
DMCFB/-2025-02-06 17:11:34
DMCHMM/-2025-02-06 17:11:34
DMRScan/-2025-02-06 17:11:35
DMRcaller/-2025-02-06 17:11:34
DMRcate/-2025-02-06 17:11:35
DNABarcodeCompatibility/-2025-02-06 17:11:35
DNABarcodes/-2025-02-06 17:11:35
DNAcopy/-2025-02-06 17:11:35
DNAfusion/-2025-02-06 17:11:35
DNAshapeR/-2025-02-06 17:11:35
DOSE/-2025-02-06 17:11:35
DRIMSeq/-2025-02-06 17:11:35
DSS/-2025-02-06 17:11:35
DTA/-2025-02-06 17:11:35
DaMiRseq/-2025-02-06 17:11:32
Damsel/-2025-02-06 17:11:32
DeMAND/-2025-02-06 17:11:33
DeMixT/-2025-02-06 17:11:33
DeProViR/-2025-02-06 17:11:33
DeconRNASeq/-2025-02-06 17:11:32
DeepPINCS/-2025-02-06 17:11:32
DeepTarget/-2025-02-06 17:11:32
DegCre/-2025-02-06 17:11:32
DegNorm/-2025-02-06 17:11:33
DelayedArray/-2025-02-06 17:11:33
DelayedDataFrame/-2025-02-06 17:11:33
DelayedMatrixStats/-2025-02-06 17:11:33
DelayedRandomArray/-2025-02-06 17:11:33
DelayedTensor/-2025-02-06 17:11:33
DepInfeR/-2025-02-06 17:11:33
DepecheR/-2025-02-06 17:11:33
DiffBind/-2025-02-06 17:11:34
DiffLogo/-2025-02-06 17:11:34
DifferentialRegulation/-2025-02-06 17:11:34
Dino/-2025-02-06 17:11:34
Director/-2025-02-06 17:11:34
DirichletMultinomial/-2025-02-06 17:11:34
DiscoRhythm/-2025-02-06 17:11:34
DominoEffect/-2025-02-06 17:11:35
Doscheda/-2025-02-06 17:11:35
DriverNet/-2025-02-06 17:11:35
DropletUtils/-2025-02-06 17:11:35
DrugVsDisease/-2025-02-06 17:11:35
Dune/-2025-02-06 17:11:35
DuplexDiscovereR/-2025-02-06 17:11:35
DynDoc/-2025-02-06 17:11:36
EBImage/-2025-02-06 17:11:36
EBSEA/-2025-02-06 17:11:36
EBSeq/-2025-02-06 17:11:36
EBarrays/-2025-02-06 17:11:36
EBcoexpress/-2025-02-06 17:11:36
EDASeq/-2025-02-06 17:11:36
EDIRquery/-2025-02-06 17:11:36
EGAD/-2025-02-06 17:11:36
EGSEA/-2025-02-06 17:11:36
ELMER/-2025-02-06 17:11:36
EMDomics/-2025-02-06 17:11:36
ENmix/-2025-02-06 17:11:36
ERSSA/-2025-02-06 17:11:38
EWCE/-2025-02-06 17:11:38
EasyCellType/-2025-02-06 17:11:36
EmpiricalBrownsMethod/-2025-02-06 17:11:36
EnMCB/-2025-02-06 17:11:36
EnhancedVolcano/-2025-02-06 17:11:36
EnrichDO/-2025-02-06 17:11:37
EnrichedHeatmap/-2025-02-06 17:11:37
EnrichmentBrowser/-2025-02-06 17:11:37
EpiCompare/-2025-02-06 17:11:37
EpiDISH/-2025-02-06 17:11:37
EpiMix/-2025-02-06 17:11:37
EpiTxDb/-2025-02-06 17:11:37
EpipwR/-2025-02-06 17:11:37
EventPointer/-2025-02-06 17:11:38
ExCluster/-2025-02-06 17:11:38
ExiMiR/-2025-02-06 17:11:38
ExperimentHub/-2025-02-06 17:11:38
ExperimentHubData/-2025-02-06 17:11:38
ExperimentSubset/-2025-02-06 17:11:38
ExploreModelMatrix/-2025-02-06 17:11:38
ExpressionAtlas/-2025-02-06 17:11:38
FEAST/-2025-02-06 17:11:39
FELLA/-2025-02-06 17:11:39
FGNet/-2025-02-06 17:11:39
FISHalyseR/-2025-02-06 17:11:39
FLAMES/-2025-02-06 17:11:40
FRASER/-2025-02-06 17:11:41
FRGEpistasis/-2025-02-06 17:11:41
FamAgg/-2025-02-06 17:11:39
FastqCleaner/-2025-02-06 17:11:39
FeatSeekR/-2025-02-06 17:11:39
FilterFFPE/-2025-02-06 17:11:39
FindIT2/-2025-02-06 17:11:39
FitHiC/-2025-02-06 17:11:40
FlowSOM/-2025-02-06 17:11:40
FuseSOM/-2025-02-06 17:11:41
GA4GHclient/-2025-02-06 17:11:41
GA4GHshiny/-2025-02-06 17:11:41
GARS/-2025-02-06 17:11:41
GAprediction/-2025-02-06 17:11:41
GBScleanR/-2025-02-06 17:11:42
GDCRNATools/-2025-02-06 17:11:42
GDSArray/-2025-02-06 17:11:42
GEM/-2025-02-06 17:11:42
GENESIS/-2025-02-06 17:11:43
GENIE3/-2025-02-06 17:11:43
GEOexplorer/-2025-02-06 17:11:44
GEOfastq/-2025-02-06 17:11:44
GEOmetadb/-2025-02-06 17:11:44
GEOquery/-2025-02-06 17:11:44
GEOsubmission/-2025-02-06 17:11:44
GEWIST/-2025-02-06 17:11:44
GGPA/-2025-02-06 17:11:45
GIGSEA/-2025-02-06 17:11:45
GLAD/-2025-02-06 17:11:45
GMRP/-2025-02-06 17:11:46
GNET2/-2025-02-06 17:11:46
GNOSIS/-2025-02-06 17:11:46
GOSemSim/-2025-02-06 17:11:46
GOTHiC/-2025-02-06 17:11:46
GOexpress/-2025-02-06 17:11:46
GOfuncR/-2025-02-06 17:11:46
GOpro/-2025-02-06 17:11:46
GOstats/-2025-02-06 17:11:46
GPA/-2025-02-06 17:11:46
GRENITS/-2025-02-06 17:11:46
GRaNIE/-2025-02-06 17:11:46
GRmetrics/-2025-02-06 17:11:46
GSALightning/-2025-02-06 17:11:46
GSAR/-2025-02-06 17:11:47
GSCA/-2025-02-06 17:11:47
GSEABase/-2025-02-06 17:11:47
GSEABenchmarkeR/-2025-02-06 17:11:47
GSEAlm/-2025-02-06 17:11:47
GSEAmining/-2025-02-06 17:11:47
GSRI/-2025-02-06 17:11:47
GSReg/-2025-02-06 17:11:47
GSVA/-2025-02-06 17:11:47
GSgalgoR/-2025-02-06 17:11:47
GUIDEseq/-2025-02-06 17:11:47
GWAS.BAYES/-2025-02-06 17:11:47
GWASTools/-2025-02-06 17:11:47
GWENA/-2025-02-06 17:11:47
GateFinder/-2025-02-06 17:11:41
GeDi/-2025-02-06 17:11:42
GenProSeq/-2025-02-06 17:11:44
GenVisR/-2025-02-06 17:11:44
GeneBreak/-2025-02-06 17:11:42
GeneExpressionSignature/-2025-02-06 17:11:42
GeneGA/-2025-02-06 17:11:43
GeneGeneInteR/-2025-02-06 17:11:43
GeneMeta/-2025-02-06 17:11:43
GeneNetworkBuilder/-2025-02-06 17:11:43
GeneOverlap/-2025-02-06 17:11:43
GeneRegionScan/-2025-02-06 17:11:43
GeneSelectMMD/-2025-02-06 17:11:43
GeneStructureTools/-2025-02-06 17:11:43
GeneTonic/-2025-02-06 17:11:43
GeneticsPed/-2025-02-06 17:11:43
GenomAutomorphism/-2025-02-06 17:11:43
GenomeInfoDb/-2025-02-06 17:11:43
GenomicAlignments/-2025-02-06 17:11:43
GenomicDataCommons/-2025-02-06 17:11:43
GenomicDistributions/-2025-02-06 17:11:43
GenomicFeatures/-2025-02-06 17:11:43
GenomicFiles/-2025-02-06 17:11:44
GenomicInteractionNodes/-2025-02-06 17:11:44
GenomicInteractions/-2025-02-06 17:11:44
GenomicOZone/-2025-02-06 17:11:44
GenomicPlot/-2025-02-06 17:11:44
GenomicRanges/-2025-02-06 17:11:44
GenomicScores/-2025-02-06 17:11:44
GenomicSuperSignature/-2025-02-06 17:11:44
GenomicTuples/-2025-02-06 17:11:44
GeoDiff/-2025-02-06 17:11:44
GeoTcgaData/-2025-02-06 17:11:44
GeomxTools/-2025-02-06 17:11:44
GladiaTOX/-2025-02-06 17:11:45
Glimma/-2025-02-06 17:11:45
GloScope/-2025-02-06 17:11:45
GlobalAncova/-2025-02-06 17:11:45
GmicR/-2025-02-06 17:11:45
GrafGen/-2025-02-06 17:11:46
GraphAT/-2025-02-06 17:11:46
GraphAlignment/-2025-02-06 17:11:46
GraphPAC/-2025-02-06 17:11:46
GreyListChIP/-2025-02-06 17:11:46
Guitar/-2025-02-06 17:11:47
Gviz/-2025-02-06 17:11:47
HDF5Array/-2025-02-06 17:11:47
HDTD/-2025-02-06 17:11:48
HELP/-2025-02-06 17:11:48
HEM/-2025-02-06 17:11:48
HERON/-2025-02-06 17:11:48
HGC/-2025-02-06 17:11:48
HIBAG/-2025-02-06 17:11:48
HIPPO/-2025-02-06 17:11:48
HIREewas/-2025-02-06 17:11:49
HMMcopy/-2025-02-06 17:11:49
HPAanalyze/-2025-02-06 17:11:49
HPiP/-2025-02-06 17:11:49
HTSFilter/-2025-02-06 17:11:49
HTSeqGenie/-2025-02-06 17:11:49
HTqPCR/-2025-02-06 17:11:49
Harman/-2025-02-06 17:11:47
HarmonizR/-2025-02-06 17:11:47
Harshlight/-2025-02-06 17:11:47
Heatplus/-2025-02-06 17:11:48
HelloRanges/-2025-02-06 17:11:48
Herper/-2025-02-06 17:11:48
HiCBricks/-2025-02-06 17:11:48
HiCDCPlus/-2025-02-06 17:11:48
HiCDOC/-2025-02-06 17:11:48
HiCExperiment/-2025-02-06 17:11:48
HiCcompare/-2025-02-06 17:11:48
HiContacts/-2025-02-06 17:11:48
HiCool/-2025-02-06 17:11:48
HiLDA/-2025-02-06 17:11:48
HiTC/-2025-02-06 17:11:49
HicAggR/-2025-02-06 17:11:48
HilbertCurve/-2025-02-06 17:11:48
HilbertVis/-2025-02-06 17:11:48
HilbertVisGUI/-2025-02-06 17:11:48
HoloFoodR/-2025-02-06 17:11:49
HuBMAPR/-2025-02-06 17:11:49
HubPub/-2025-02-06 17:11:49
HybridExpress/-2025-02-06 17:11:49
HybridMTest/-2025-02-06 17:11:49
IFAA/-2025-02-06 17:11:50
IHW/-2025-02-06 17:11:50
ILoReg/-2025-02-06 17:11:50
IMAS/-2025-02-06 17:11:50
IMMAN/-2025-02-06 17:11:50
IMPCdata/-2025-02-06 17:11:51
INDEED/-2025-02-06 17:11:51
INPower/-2025-02-06 17:11:51
INSPEcT/-2025-02-06 17:11:51
INTACT/-2025-02-06 17:11:51
IONiseR/-2025-02-06 17:11:51
IPO/-2025-02-06 17:11:51
IRanges/-2025-02-06 17:11:51
ISAnalytics/-2025-02-06 17:11:52
ISLET/-2025-02-06 17:11:52
ISoLDE/-2025-02-06 17:11:52
ITALICS/-2025-02-06 17:11:52
IVAS/-2025-02-06 17:11:52
IWTomics/-2025-02-06 17:11:52
Icens/-2025-02-06 17:11:50
IdeoViz/-2025-02-06 17:11:50
IgGeneUsage/-2025-02-06 17:11:50
InPAS/-2025-02-06 17:11:51
InTAD/-2025-02-06 17:11:51
Informeasure/-2025-02-06 17:11:51
IntEREst/-2025-02-06 17:11:51
InterCellar/-2025-02-06 17:11:51
InteractionSet/-2025-02-06 17:11:51
InteractiveComplexHeatmap/-2025-02-06 17:11:51
IntramiRExploreR/-2025-02-06 17:11:51
IsoBayes/-2025-02-06 17:11:52
IsoCorrectoR/-2025-02-06 17:11:52
IsoCorrectoRGUI/-2025-02-06 17:11:52
IsoformSwitchAnalyzeR/-2025-02-06 17:11:52
KBoost/-2025-02-06 17:11:53
KCsmart/-2025-02-06 17:11:53
KEGGREST/-2025-02-06 17:11:53
KEGGgraph/-2025-02-06 17:11:53
KEGGlincs/-2025-02-06 17:11:53
KinSwingR/-2025-02-06 17:11:53
KnowSeq/-2025-02-06 17:11:53
LACE/-2025-02-06 17:11:53
LBE/-2025-02-06 17:11:53
LEA/-2025-02-06 17:11:53
LOBSTAHS/-2025-02-06 17:11:57
LOLA/-2025-02-06 17:11:57
LPE/-2025-02-06 17:11:57
LRBaseDbi/-2025-02-06 17:11:57
LRcell/-2025-02-06 17:11:57
LedPred/-2025-02-06 17:11:53
LinTInd/-2025-02-06 17:11:57
LinkHD/-2025-02-06 17:11:57
Linnorm/-2025-02-06 17:11:57
LiquidAssociation/-2025-02-06 17:11:57
LoomExperiment/-2025-02-06 17:11:57
LymphoSeq/-2025-02-06 17:11:57
M3C/-2025-02-06 17:11:57
M3Drop/-2025-02-06 17:11:57
MACSQuantifyR/-2025-02-06 17:11:57
MACSr/-2025-02-06 17:11:58
MADSEQ/-2025-02-06 17:11:58
MAGAR/-2025-02-06 17:11:58
MAGeCKFlute/-2025-02-06 17:11:58
MAI/-2025-02-06 17:11:58
MAIT/-2025-02-06 17:11:58
MANOR/-2025-02-06 17:11:58
MAPFX/-2025-02-06 17:11:58
MAST/-2025-02-06 17:11:58
MBASED/-2025-02-06 17:12:02
MBAmethyl/-2025-02-06 17:12:02
MBCB/-2025-02-06 17:12:02
MBECS/-2025-02-06 17:12:02
MBQN/-2025-02-06 17:12:02
MBttest/-2025-02-06 17:12:02
MCbiclust/-2025-02-06 17:12:02
MDTS/-2025-02-06 17:12:02
MEAL/-2025-02-06 17:12:02
MEAT/-2025-02-06 17:12:02
MEB/-2025-02-06 17:12:02
MEDIPS/-2025-02-06 17:12:02
MEDME/-2025-02-06 17:12:02
MEIGOR/-2025-02-06 17:12:02
MGFM/-2025-02-06 17:12:04
MGFR/-2025-02-06 17:12:04
MGnifyR/-2025-02-06 17:12:04
MICSQTL/-2025-02-06 17:12:05
MIRA/-2025-02-06 17:12:05
MIRit/-2025-02-06 17:12:06
MLInterfaces/-2025-02-06 17:12:06
MLP/-2025-02-06 17:12:06
MLSeq/-2025-02-06 17:12:06
MMDiff2/-2025-02-06 17:12:06
MMUPHin/-2025-02-06 17:12:06
MODA/-2025-02-06 17:12:06
MOFA2/-2025-02-06 17:12:06
MOGAMUN/-2025-02-06 17:12:07
MOMA/-2025-02-06 17:12:07
MOSClip/-2025-02-06 17:12:07
MOSim/-2025-02-06 17:12:07
MPAC/-2025-02-06 17:12:07
MPFE/-2025-02-06 17:12:07
MPRAnalyze/-2025-02-06 17:12:07
MQmetrics/-2025-02-06 17:12:07
MSA2dist/-2025-02-06 17:12:07
MSPrep/-2025-02-06 17:12:08
MSnID/-2025-02-06 17:12:08
MSnbase/-2025-02-06 17:12:08
MSstats/-2025-02-06 17:12:08
MSstatsBig/-2025-02-06 17:12:08
MSstatsConvert/-2025-02-06 17:12:08
MSstatsLOBD/-2025-02-06 17:12:08
MSstatsLiP/-2025-02-06 17:12:08
MSstatsPTM/-2025-02-06 17:12:08
MSstatsQC/-2025-02-06 17:12:08
MSstatsQCgui/-2025-02-06 17:12:08
MSstatsShiny/-2025-02-06 17:12:08
MSstatsTMT/-2025-02-06 17:12:09
MVCClass/-2025-02-06 17:12:09
MWASTools/-2025-02-06 17:12:09
Maaslin2/-2025-02-06 17:11:57
Macarron/-2025-02-06 17:11:57
MantelCorr/-2025-02-06 17:11:58
MassArray/-2025-02-06 17:11:58
MassSpecWavelet/-2025-02-06 17:11:58
MatrixGenerics/-2025-02-06 17:12:02
MatrixQCvis/-2025-02-06 17:12:02
MatrixRider/-2025-02-06 17:12:02
MeSHDbi/-2025-02-06 17:12:03
MeasurementError.cor/-2025-02-06 17:12:02
Melissa/-2025-02-06 17:12:02
Mergeomics/-2025-02-06 17:12:03
MesKit/-2025-02-06 17:12:03
MetCirc/-2025-02-06 17:12:03
MetID/-2025-02-06 17:12:04
MetMashR/-2025-02-06 17:12:04
MetNet/-2025-02-06 17:12:04
MetaCyto/-2025-02-06 17:12:03
MetaNeighbor/-2025-02-06 17:12:03
MetaPhOR/-2025-02-06 17:12:03
MetaboAnnotation/-2025-02-06 17:12:03
MetaboCoreUtils/-2025-02-06 17:12:03
MetaboSignal/-2025-02-06 17:12:03
MethPed/-2025-02-06 17:12:04
MethReg/-2025-02-06 17:12:04
MethTargetedNGS/-2025-02-06 17:12:04
MethylAid/-2025-02-06 17:12:04
MethylMix/-2025-02-06 17:12:04
MethylSeekR/-2025-02-06 17:12:04
Mfuzz/-2025-02-06 17:12:04
MiChip/-2025-02-06 17:12:05
MiPP/-2025-02-06 17:12:05
MiRaGE/-2025-02-06 17:12:05
MicrobiomeProfiler/-2025-02-06 17:12:05
MicrobiotaProcess/-2025-02-06 17:12:05
MineICA/-2025-02-06 17:12:05
MinimumDistance/-2025-02-06 17:12:05
ModCon/-2025-02-06 17:12:06
Modstrings/-2025-02-06 17:12:06
MoleculeExperiment/-2025-02-06 17:12:07
Moonlight2R/-2025-02-06 17:12:07
MoonlightR/-2025-02-06 17:12:07
Motif2Site/-2025-02-06 17:12:07
MotifDb/-2025-02-06 17:12:07
MouseFM/-2025-02-06 17:12:07
MsBackendMassbank/-2025-02-06 17:12:07
MsBackendMetaboLights/-2025-02-06 17:12:08
MsBackendMgf/-2025-02-06 17:12:08
MsBackendMsp/-2025-02-06 17:12:08
MsBackendRawFileReader/-2025-02-06 17:12:08
MsBackendSql/-2025-02-06 17:12:08
MsCoreUtils/-2025-02-06 17:12:08
MsDataHub/-2025-02-06 17:12:08
MsExperiment/-2025-02-06 17:12:08
MsFeatures/-2025-02-06 17:12:08
MsQuality/-2025-02-06 17:12:08
MuData/-2025-02-06 17:12:09
Mulcom/-2025-02-06 17:12:09
MultiAssayExperiment/-2025-02-06 17:12:09
MultiBaC/-2025-02-06 17:12:09
MultiDataSet/-2025-02-06 17:12:09
MultiMed/-2025-02-06 17:12:09
MultiRNAflow/-2025-02-06 17:12:09
MultimodalExperiment/-2025-02-06 17:12:09
MungeSumstats/-2025-02-06 17:12:09
MutationalPatterns/-2025-02-06 17:12:09
NADfinder/-2025-02-06 17:12:10
NBAMSeq/-2025-02-06 17:12:10
NCIgraph/-2025-02-06 17:12:10
NOISeq/-2025-02-06 17:12:11
NPARC/-2025-02-06 17:12:11
NTW/-2025-02-06 17:12:11
NanoMethViz/-2025-02-06 17:12:10
NanoStringDiff/-2025-02-06 17:12:10
NanoStringNCTools/-2025-02-06 17:12:10
NanoTube/-2025-02-06 17:12:10
Nebulosa/-2025-02-06 17:12:10
NetActivity/-2025-02-06 17:12:10
NetPathMiner/-2025-02-06 17:12:10
NetSAM/-2025-02-06 17:12:10
NeuCA/-2025-02-06 17:12:11
NewWave/-2025-02-06 17:12:11
NoRCE/-2025-02-06 17:12:11
NormalyzerDE/-2025-02-06 17:12:11
NormqPCR/-2025-02-06 17:12:11
NuPoP/-2025-02-06 17:12:11
OCplus/-2025-02-06 17:12:11
OGRE/-2025-02-06 17:12:11
OLIN/-2025-02-06 17:12:12
OLINgui/-2025-02-06 17:12:12
OMICsPCA/-2025-02-06 17:12:12
OPWeight/-2025-02-06 17:12:13
ORFhunteR/-2025-02-06 17:12:13
ORFik/-2025-02-06 17:12:13
OSAT/-2025-02-06 17:12:13
OTUbase/-2025-02-06 17:12:13
OUTRIDER/-2025-02-06 17:12:13
OVESEG/-2025-02-06 17:12:13
OmaDB/-2025-02-06 17:12:12
OmicCircos/-2025-02-06 17:12:12
OmicsMLRepoR/-2025-02-06 17:12:12
Omixer/-2025-02-06 17:12:12
OmnipathR/-2025-02-06 17:12:12
OncoScore/-2025-02-06 17:12:12
OncoSimulR/-2025-02-06 17:12:12
OpenStats/-2025-02-06 17:12:13
OrderedList/-2025-02-06 17:12:13
Organism.dplyr/-2025-02-06 17:12:13
OrganismDbi/-2025-02-06 17:12:13
Oscope/-2025-02-06 17:12:13
OutSplice/-2025-02-06 17:12:13
PAA/-2025-02-06 17:12:13
PADOG/-2025-02-06 17:12:13
PAIRADISE/-2025-02-06 17:12:14
PANR/-2025-02-06 17:12:14
PAST/-2025-02-06 17:12:14
PCAN/-2025-02-06 17:12:15
PCAtools/-2025-02-06 17:12:15
PDATK/-2025-02-06 17:12:15
PECA/-2025-02-06 17:12:15
PICS/-2025-02-06 17:12:16
PING/-2025-02-06 17:12:16
PIPETS/-2025-02-06 17:12:16
PIUMA/-2025-02-06 17:12:16
PLPE/-2025-02-06 17:12:16
PLSDAbatch/-2025-02-06 17:12:16
POMA/-2025-02-06 17:12:17
POWSC/-2025-02-06 17:12:17
PPInfer/-2025-02-06 17:12:17
PREDA/-2025-02-06 17:12:17
PROMISE/-2025-02-06 17:12:18
PRONE/-2025-02-06 17:12:18
PROPER/-2025-02-06 17:12:18
PROPS/-2025-02-06 17:12:18
PROcess/-2025-02-06 17:12:17
PSMatch/-2025-02-06 17:12:18
PWMEnrich/-2025-02-06 17:12:18
PanViz/-2025-02-06 17:12:14
PanomiR/-2025-02-06 17:12:14
Path2PPI/-2025-02-06 17:12:14
PathNet/-2025-02-06 17:12:14
PathoStat/-2025-02-06 17:12:14
PeacoQC/-2025-02-06 17:12:15
Pedixplorer/-2025-02-06 17:12:15
PepSetTest/-2025-02-06 17:12:15
PepsNMR/-2025-02-06 17:12:15
PhIPData/-2025-02-06 17:12:16
PharmacoGx/-2025-02-06 17:12:15
PhenStat/-2025-02-06 17:12:16
PhenoGeneRanker/-2025-02-06 17:12:15
PhosR/-2025-02-06 17:12:16
PhyloProfile/-2025-02-06 17:12:16
Pi/-2025-02-06 17:12:16
Pigengene/-2025-02-06 17:12:16
Pirat/-2025-02-06 17:12:16
PoDCall/-2025-02-06 17:12:17
PolySTest/-2025-02-06 17:12:17
PrInCE/-2025-02-06 17:12:17
Prostar/-2025-02-06 17:12:18
ProtGenerics/-2025-02-06 17:12:18
ProteoDisco/-2025-02-06 17:12:18
ProteoMM/-2025-02-06 17:12:18
PureCN/-2025-02-06 17:12:18
Pviz/-2025-02-06 17:12:18
QDNAseq/-2025-02-06 17:12:19
QFeatures/-2025-02-06 17:12:19
QSutils/-2025-02-06 17:12:19
QTLExperiment/-2025-02-06 17:12:19
QUBIC/-2025-02-06 17:12:19
Qtlizer/-2025-02-06 17:12:19
QuartPAC/-2025-02-06 17:12:19
QuasR/-2025-02-06 17:12:19
QuaternaryProd/-2025-02-06 17:12:19
R3CPET/-2025-02-06 17:12:19
R453Plus1Toolbox/-2025-02-06 17:12:19
R4RNA/-2025-02-06 17:12:19
RAIDS/-2025-02-06 17:12:20
RAREsim/-2025-02-06 17:12:20
RBGL/-2025-02-06 17:12:20
RBM/-2025-02-06 17:12:21
RBioFormats/-2025-02-06 17:12:21
RBioinf/-2025-02-06 17:12:21
RCAS/-2025-02-06 17:12:21
RCASPAR/-2025-02-06 17:12:21
RCM/-2025-02-06 17:12:21
RCSL/-2025-02-06 17:12:21
RCX/-2025-02-06 17:12:21
RCy3/-2025-02-06 17:12:22
RCyjs/-2025-02-06 17:12:22
RDRToolbox/-2025-02-06 17:12:22
REBET/-2025-02-06 17:12:22
REDseq/-2025-02-06 17:12:22
REMP/-2025-02-06 17:12:23
RESOLVE/-2025-02-06 17:12:23
RGMQL/-2025-02-06 17:12:23
RGSEA/-2025-02-06 17:12:23
RGraph2js/-2025-02-06 17:12:23
RITAN/-2025-02-06 17:12:24
RIVER/-2025-02-06 17:12:24
RImmPort/-2025-02-06 17:12:24
RJMCMCNucleosomes/-2025-02-06 17:12:24
RLMM/-2025-02-06 17:12:24
RLassoCox/-2025-02-06 17:12:24
RMassBank/-2025-02-06 17:12:24
RNAAgeCalc/-2025-02-06 17:12:24
RNASeqPower/-2025-02-06 17:12:25
RNAdecay/-2025-02-06 17:12:24
RNAinteract/-2025-02-06 17:12:24
RNAmodR/-2025-02-06 17:12:24
RNAmodR.AlkAnilineSeq/-2025-02-06 17:12:25
RNAmodR.ML/-2025-02-06 17:12:25
RNAmodR.RiboMethSeq/-2025-02-06 17:12:25
RNAsense/-2025-02-06 17:12:25
RNAseqCovarImpute/-2025-02-06 17:12:25
ROC/-2025-02-06 17:12:25
ROCpAI/-2025-02-06 17:12:25
ROSeq/-2025-02-06 17:12:25
ROTS/-2025-02-06 17:12:25
ROntoTools/-2025-02-06 17:12:25
RPA/-2025-02-06 17:12:25
RProtoBufLib/-2025-02-06 17:12:25
RRHO/-2025-02-06 17:12:26
RSVSim/-2025-02-06 17:12:26
RSeqAn/-2025-02-06 17:12:26
RTCA/-2025-02-06 17:12:26
RTCGA/-2025-02-06 17:12:26
RTCGAToolbox/-2025-02-06 17:12:26
RTN/-2025-02-06 17:12:26
RTNduals/-2025-02-06 17:12:26
RTNsurvival/-2025-02-06 17:12:26
RTopper/-2025-02-06 17:12:26
RUVSeq/-2025-02-06 17:12:27
RUVcorr/-2025-02-06 17:12:26
RUVnormalize/-2025-02-06 17:12:27
RVS/-2025-02-06 17:12:27
RadioGx/-2025-02-06 17:12:20
RaggedExperiment/-2025-02-06 17:12:20
RandomWalkRestartMH/-2025-02-06 17:12:20
RankProd/-2025-02-06 17:12:20
RareVariantVis/-2025-02-06 17:12:20
Rarr/-2025-02-06 17:12:20
RbcBook1/-2025-02-06 17:12:20
Rbec/-2025-02-06 17:12:20
Rbowtie/-2025-02-06 17:12:21
Rbowtie2/-2025-02-06 17:12:21
Rbwa/-2025-02-06 17:12:21
RcisTarget/-2025-02-06 17:12:21
Rcollectl/-2025-02-06 17:12:21
Rcpi/-2025-02-06 17:12:21
Rcwl/-2025-02-06 17:12:21
RcwlPipelines/-2025-02-06 17:12:21
Rdisop/-2025-02-06 17:12:22
ReUseData/-2025-02-06 17:12:23
ReactomeContentService4R/-2025-02-06 17:12:22
ReactomeGSA/-2025-02-06 17:12:22
ReactomeGraph4R/-2025-02-06 17:12:22
ReactomePA/-2025-02-06 17:12:22
ReadqPCR/-2025-02-06 17:12:22
RedeR/-2025-02-06 17:12:22
RedisParam/-2025-02-06 17:12:22
RegEnrich/-2025-02-06 17:12:22
RegionalST/-2025-02-06 17:12:22
RepViz/-2025-02-06 17:12:23
Repitools/-2025-02-06 17:12:23
ReportingTools/-2025-02-06 17:12:23
ResidualMatrix/-2025-02-06 17:12:23
Rfastp/-2025-02-06 17:12:23
RgnTX/-2025-02-06 17:12:23
Rgraphviz/-2025-02-06 17:12:23
Rhdf5lib/-2025-02-06 17:12:23
Rhisat2/-2025-02-06 17:12:24
Rhtslib/-2025-02-06 17:12:24
RiboCrypt/-2025-02-06 17:12:24
RiboDiPA/-2025-02-06 17:12:24
RiboProfiling/-2025-02-06 17:12:24
Risa/-2025-02-06 17:12:24
Rmagpie/-2025-02-06 17:12:24
Rmmquant/-2025-02-06 17:12:24
RnBeads/-2025-02-06 17:12:25
RnaSeqSampleSize/-2025-02-06 17:12:25
Rnits/-2025-02-06 17:12:25
RolDE/-2025-02-06 17:12:25
Rqc/-2025-02-06 17:12:25
Rsamtools/-2025-02-06 17:12:26
Rsubread/-2025-02-06 17:12:26
Rtpca/-2025-02-06 17:12:26
Rtreemix/-2025-02-06 17:12:26
Rvisdiff/-2025-02-06 17:12:27
S4Arrays/-2025-02-06 17:12:27
S4Vectors/-2025-02-06 17:12:27
SAIGEgds/-2025-02-06 17:12:27
SANTA/-2025-02-06 17:12:27
SARC/-2025-02-06 17:12:27
SBGNview/-2025-02-06 17:12:27
SBMLR/-2025-02-06 17:12:27
SC3/-2025-02-06 17:12:27
SCAN.UPC/-2025-02-06 17:12:27
SCANVIS/-2025-02-06 17:12:28
SCArray/-2025-02-06 17:12:28
SCArray.sat/-2025-02-06 17:12:28
SCBN/-2025-02-06 17:12:28
SCFA/-2025-02-06 17:12:28
SCOPE/-2025-02-06 17:12:29
SCnorm/-2025-02-06 17:12:29
SDAMS/-2025-02-06 17:12:30
SELEX/-2025-02-06 17:12:30
SEtools/-2025-02-06 17:12:31
SGCP/-2025-02-06 17:12:31
SGSeq/-2025-02-06 17:12:31
SIAMCAT/-2025-02-06 17:12:31
SICtools/-2025-02-06 17:12:31
SIM/-2025-02-06 17:12:32
SIMAT/-2025-02-06 17:12:32
SIMD/-2025-02-06 17:12:32
SIMLR/-2025-02-06 17:12:32
SLqPCR/-2025-02-06 17:12:33
SMAD/-2025-02-06 17:12:33
SMITE/-2025-02-06 17:12:33
SNAGEE/-2025-02-06 17:12:33
SNPRelate/-2025-02-06 17:12:33
SNPediaR/-2025-02-06 17:12:33
SNPhood/-2025-02-06 17:12:33
SOMNiBUS/-2025-02-06 17:12:34
SPEM/-2025-02-06 17:12:35
SPIA/-2025-02-06 17:12:35
SPIAT/-2025-02-06 17:12:35
SPLINTER/-2025-02-06 17:12:35
SPONGE/-2025-02-06 17:12:35
SPOTlight/-2025-02-06 17:12:35
SPsimSeq/-2025-02-06 17:12:35
SQLDataFrame/-2025-02-06 17:12:35
SRAdb/-2025-02-06 17:12:35
STATegRa/-2025-02-06 17:12:36
STRINGdb/-2025-02-06 17:12:36
STdeconvolve/-2025-02-06 17:12:36
SUITOR/-2025-02-06 17:12:37
SVMDO/-2025-02-06 17:12:37
SWATH2stats/-2025-02-06 17:12:37
SamSPECTRAL/-2025-02-06 17:12:27
Scale4C/-2025-02-06 17:12:27
ScaledMatrix/-2025-02-06 17:12:27
Sconify/-2025-02-06 17:12:29
ScreenR/-2025-02-06 17:12:30
SemDist/-2025-02-06 17:12:30
SeqArray/-2025-02-06 17:12:31
SeqGSEA/-2025-02-06 17:12:31
SeqGate/-2025-02-06 17:12:31
SeqSQC/-2025-02-06 17:12:31
SeqVarTools/-2025-02-06 17:12:31
SharedObject/-2025-02-06 17:12:31
ShortRead/-2025-02-06 17:12:31
SiPSiC/-2025-02-06 17:12:33
SigCheck/-2025-02-06 17:12:31
SigFuge/-2025-02-06 17:12:32
SigsPack/-2025-02-06 17:12:32
SimBu/-2025-02-06 17:12:32
SimFFPE/-2025-02-06 17:12:32
SingleCellAlleleExperiment/-2025-02-06 17:12:32
SingleCellExperiment/-2025-02-06 17:12:32
SingleCellSignalR/-2025-02-06 17:12:33
SingleMoleculeFootprinting/-2025-02-06 17:12:33
SingleR/-2025-02-06 17:12:33
SomaticSignatures/-2025-02-06 17:12:34
SpaNorm/-2025-02-06 17:12:34
SpaceMarkers/-2025-02-06 17:12:34
SpacePAC/-2025-02-06 17:12:34
Spaniel/-2025-02-06 17:12:34
SparseArray/-2025-02-06 17:12:34
SparseSignatures/-2025-02-06 17:12:34
SpatialCPie/-2025-02-06 17:12:34
SpatialDecon/-2025-02-06 17:12:34
SpatialExperiment/-2025-02-06 17:12:34
SpatialFeatureExperiment/-2025-02-06 17:12:34
SpatialOmicsOverlay/-2025-02-06 17:12:34
SpeCond/-2025-02-06 17:12:34
Spectra/-2025-02-06 17:12:34
SpectraQL/-2025-02-06 17:12:35
SpectralTAD/-2025-02-06 17:12:34
SpliceWiz/-2025-02-06 17:12:35
SplicingFactory/-2025-02-06 17:12:35
SplicingGraphs/-2025-02-06 17:12:35
SpotClean/-2025-02-06 17:12:35
SpotSweeper/-2025-02-06 17:12:35
StabMap/-2025-02-06 17:12:36
Statial/-2025-02-06 17:12:36
Streamer/-2025-02-06 17:12:36
Structstrings/-2025-02-06 17:12:36
StructuralVariantAnnotation/-2025-02-06 17:12:36
SubCellBarCode/-2025-02-06 17:12:37
SummarizedBenchmark/-2025-02-06 17:12:37
SummarizedExperiment/-2025-02-06 17:12:37
Summix/-2025-02-06 17:12:37
SurfR/-2025-02-06 17:12:37
SwathXtend/-2025-02-06 17:12:37
SynExtend/-2025-02-06 17:12:37
SynMut/-2025-02-06 17:12:38
TADCompare/-2025-02-06 17:12:38
TAPseq/-2025-02-06 17:12:38
TBSignatureProfiler/-2025-02-06 17:12:38
TCC/-2025-02-06 17:12:38
TCGAbiolinks/-2025-02-06 17:12:38
TCGAutils/-2025-02-06 17:12:38
TCseq/-2025-02-06 17:12:38
TDbasedUFE/-2025-02-06 17:12:38
TDbasedUFEadv/-2025-02-06 17:12:38
TEKRABber/-2025-02-06 17:12:38
TENxIO/-2025-02-06 17:12:38
TEQC/-2025-02-06 17:12:38
TFARM/-2025-02-06 17:12:39
TFBSTools/-2025-02-06 17:12:39
TFEA.ChIP/-2025-02-06 17:12:39
TFHAZ/-2025-02-06 17:12:39
TFutils/-2025-02-06 17:12:39
TIN/-2025-02-06 17:12:39
TMSig/-2025-02-06 17:12:40
TMixClust/-2025-02-06 17:12:40
TOAST/-2025-02-06 17:12:40
TOP/-2025-02-06 17:12:40
TPP/-2025-02-06 17:12:40
TPP2D/-2025-02-06 17:12:40
TREG/-2025-02-06 17:12:41
TRESS/-2025-02-06 17:12:41
TRONCO/-2025-02-06 17:12:42
TSAR/-2025-02-06 17:12:42
TSCAN/-2025-02-06 17:12:42
TTMap/-2025-02-06 17:12:42
TVTB/-2025-02-06 17:12:42
TargetDecoy/-2025-02-06 17:12:38
TargetScore/-2025-02-06 17:12:38
TargetSearch/-2025-02-06 17:12:38
TileDBArray/-2025-02-06 17:12:39
TissueEnrich/-2025-02-06 17:12:39
TitanCNA/-2025-02-06 17:12:39
TnT/-2025-02-06 17:12:40
ToxicoGx/-2025-02-06 17:12:40
TrajectoryGeometry/-2025-02-06 17:12:40
TrajectoryUtils/-2025-02-06 17:12:40
TransView/-2025-02-06 17:12:41
TreeAndLeaf/-2025-02-06 17:12:41
TreeSummarizedExperiment/-2025-02-06 17:12:41
Trendy/-2025-02-06 17:12:41
TurboNorm/-2025-02-06 17:12:42
TypeInfo/-2025-02-06 17:12:42
UCSC.utils/-2025-02-06 17:12:42
UCell/-2025-02-06 17:12:42
UMI4Cats/-2025-02-06 17:12:42
UNDO/-2025-02-06 17:12:42
UPDhmm/-2025-02-06 17:12:43
Ularcirc/-2025-02-06 17:12:42
UniProt.ws/-2025-02-06 17:12:42
Uniquorn/-2025-02-06 17:12:43
VAExprs/-2025-02-06 17:12:43
VCFArray/-2025-02-06 17:12:43
VDJdive/-2025-02-06 17:12:43
VERSO/-2025-02-06 17:12:43
VaSP/-2025-02-06 17:12:43
VanillaICE/-2025-02-06 17:12:43
VarCon/-2025-02-06 17:12:43
VariantAnnotation/-2025-02-06 17:12:43
VariantExperiment/-2025-02-06 17:12:43
VariantFiltering/-2025-02-06 17:12:43
VariantTools/-2025-02-06 17:12:43
VegaMC/-2025-02-06 17:12:43
VennDetail/-2025-02-06 17:12:43
ViSEAGO/-2025-02-06 17:12:43
VisiumIO/-2025-02-06 17:12:44
Voyager/-2025-02-06 17:12:44
VplotR/-2025-02-06 17:12:44
Wrench/-2025-02-06 17:12:44
XDE/-2025-02-06 17:12:45
XINA/-2025-02-06 17:12:45
XNAString/-2025-02-06 17:12:45
XVector/-2025-02-06 17:12:45
Xeva/-2025-02-06 17:12:45
YAPSA/-2025-02-06 17:12:45
ZygosityPredictor/-2025-02-06 17:12:46
a4/-2025-02-06 17:11:14
a4Base/-2025-02-06 17:11:14
a4Classif/-2025-02-06 17:11:14
a4Core/-2025-02-06 17:11:14
a4Preproc/-2025-02-06 17:11:14
a4Reporting/-2025-02-06 17:11:14
aCGH/-2025-02-06 17:11:14
abseqR/-2025-02-06 17:11:14
acde/-2025-02-06 17:11:14
adSplit/-2025-02-06 17:11:15
adductomicsR/-2025-02-06 17:11:15
adverSCarial/-2025-02-06 17:11:15
affxparser/-2025-02-06 17:11:15
affy/-2025-02-06 17:11:15
affyContam/-2025-02-06 17:11:15
affyILM/-2025-02-06 17:11:15
affyPLM/-2025-02-06 17:11:15
affycomp/-2025-02-06 17:11:15
affycoretools/-2025-02-06 17:11:15
affyio/-2025-02-06 17:11:15
affylmGUI/-2025-02-06 17:11:15
aggregateBioVar/-2025-02-06 17:11:15
agilp/-2025-02-06 17:11:15
airpart/-2025-02-06 17:11:15
alabaster/-2025-02-06 17:11:15
alabaster.base/-2025-02-06 17:11:15
alabaster.bumpy/-2025-02-06 17:11:15
alabaster.files/-2025-02-06 17:11:15
alabaster.mae/-2025-02-06 17:11:15
alabaster.matrix/-2025-02-06 17:11:15
alabaster.ranges/-2025-02-06 17:11:15
alabaster.sce/-2025-02-06 17:11:16
alabaster.schemas/-2025-02-06 17:11:16
alabaster.se/-2025-02-06 17:11:16
alabaster.spatial/-2025-02-06 17:11:16
alabaster.string/-2025-02-06 17:11:16
alabaster.vcf/-2025-02-06 17:11:16
alevinQC/-2025-02-06 17:11:16
altcdfenvs/-2025-02-06 17:11:16
amplican/-2025-02-06 17:11:16
animalcules/-2025-02-06 17:11:16
annaffy/-2025-02-06 17:11:16
annmap/-2025-02-06 17:11:16
annotate/-2025-02-06 17:11:16
annotationTools/-2025-02-06 17:11:16
annotatr/-2025-02-06 17:11:16
anota/-2025-02-06 17:11:17
anota2seq/-2025-02-06 17:11:17
antiProfiles/-2025-02-06 17:11:17
apComplex/-2025-02-06 17:11:17
apeglm/-2025-02-06 17:11:17
appreci8R/-2025-02-06 17:11:17
aroma.light/-2025-02-06 17:11:17
arrayMvout/-2025-02-06 17:11:17
arrayQuality/-2025-02-06 17:11:17
arrayQualityMetrics/-2025-02-06 17:11:17
artMS/-2025-02-06 17:11:17
assorthead/-2025-02-06 17:11:18
atSNP/-2025-02-06 17:11:18
atena/-2025-02-06 17:11:18
attract/-2025-02-06 17:11:18
autonomics/-2025-02-06 17:11:18
awst/-2025-02-06 17:11:18
bacon/-2025-02-06 17:11:18
ballgown/-2025-02-06 17:11:18
bambu/-2025-02-06 17:11:18
bamsignals/-2025-02-06 17:11:18
bandle/-2025-02-06 17:11:18
banocc/-2025-02-06 17:11:18
barcodetrackR/-2025-02-06 17:11:18
basecallQC/-2025-02-06 17:11:18
basilisk/-2025-02-06 17:11:19
basilisk.utils/-2025-02-06 17:11:19
batchelor/-2025-02-06 17:11:19
bayNorm/-2025-02-06 17:11:19
baySeq/-2025-02-06 17:11:19
bcSeq/-2025-02-06 17:11:19
beachmat/-2025-02-06 17:11:19
beachmat.hdf5/-2025-02-06 17:11:19
beadarray/-2025-02-06 17:11:19
beer/-2025-02-06 17:11:19
benchdamic/-2025-02-06 17:11:19
betaHMM/-2025-02-06 17:11:19
bettr/-2025-02-06 17:11:19
bgx/-2025-02-06 17:11:20
bigmelon/-2025-02-06 17:11:20
bioCancer/-2025-02-06 17:11:20
bioDist/-2025-02-06 17:11:21
bioassayR/-2025-02-06 17:11:20
biobroom/-2025-02-06 17:11:20
biobtreeR/-2025-02-06 17:11:20
biocGraph/-2025-02-06 17:11:20
biocViews/-2025-02-06 17:11:21
biocroxytest/-2025-02-06 17:11:20
biocthis/-2025-02-06 17:11:21
biodb/-2025-02-06 17:11:21
biodbChebi/-2025-02-06 17:11:21
biodbExpasy/-2025-02-06 17:11:21
biodbHmdb/-2025-02-06 17:11:21
biodbKegg/-2025-02-06 17:11:21
biodbNcbi/-2025-02-06 17:11:21
biodbNci/-2025-02-06 17:11:21
biodbUniprot/-2025-02-06 17:11:21
biomaRt/-2025-02-06 17:11:21
biomformat/-2025-02-06 17:11:21
biomvRCNS/-2025-02-06 17:11:21
biosigner/-2025-02-06 17:11:22
biotmle/-2025-02-06 17:11:22
biovizBase/-2025-02-06 17:11:22
biscuiteer/-2025-02-06 17:11:22
blacksheepr/-2025-02-06 17:11:22
blima/-2025-02-06 17:11:22
bluster/-2025-02-06 17:11:22
bnbc/-2025-02-06 17:11:22
bnem/-2025-02-06 17:11:22
borealis/-2025-02-06 17:11:22
brainflowprobes/-2025-02-06 17:11:22
branchpointer/-2025-02-06 17:11:22
breakpointR/-2025-02-06 17:11:22
brendaDb/-2025-02-06 17:11:22
broadSeq/-2025-02-06 17:11:22
bsseq/-2025-02-06 17:11:23
bugsigdbr/-2025-02-06 17:11:23
bumphunter/-2025-02-06 17:11:23
cBioPortalData/-2025-02-06 17:11:24
cTRAP/-2025-02-06 17:11:31
cageminer/-2025-02-06 17:11:23
calm/-2025-02-06 17:11:23
canceR/-2025-02-06 17:11:23
cancerclass/-2025-02-06 17:11:23
cardelino/-2025-02-06 17:11:23
casper/-2025-02-06 17:11:23
categoryCompare/-2025-02-06 17:11:24
cbaf/-2025-02-06 17:11:24
cbpManager/-2025-02-06 17:11:24
ccImpute/-2025-02-06 17:11:24
ccfindR/-2025-02-06 17:11:24
ccmap/-2025-02-06 17:11:24
ccrepe/-2025-02-06 17:11:24
ceRNAnetsim/-2025-02-06 17:11:25
celaref/-2025-02-06 17:11:24
celda/-2025-02-06 17:11:24
cellbaseR/-2025-02-06 17:11:24
cellity/-2025-02-06 17:11:24
cellmigRation/-2025-02-06 17:11:24
cellscape/-2025-02-06 17:11:24
cellxgenedp/-2025-02-06 17:11:25
censcyt/-2025-02-06 17:11:25
cfDNAPro/-2025-02-06 17:11:25
cfTools/-2025-02-06 17:11:25
cfdnakit/-2025-02-06 17:11:25
cghMCR/-2025-02-06 17:11:25
chihaya/-2025-02-06 17:11:25
chimeraviz/-2025-02-06 17:11:25
chipenrich/-2025-02-06 17:11:26
chipseq/-2025-02-06 17:11:26
chopsticks/-2025-02-06 17:11:26
chromDraw/-2025-02-06 17:11:26
chromPlot/-2025-02-06 17:11:26
chromVAR/-2025-02-06 17:11:26
chromstaR/-2025-02-06 17:11:26
cicero/-2025-02-06 17:11:26
circRNAprofiler/-2025-02-06 17:11:26
cisPath/-2025-02-06 17:11:26
cleanUpdTSeq/-2025-02-06 17:11:26
cleaver/-2025-02-06 17:11:26
clevRvis/-2025-02-06 17:11:26
cliProfiler/-2025-02-06 17:11:27
clippda/-2025-02-06 17:11:26
clipper/-2025-02-06 17:11:26
cliqueMS/-2025-02-06 17:11:27
clst/-2025-02-06 17:11:27
clstutils/-2025-02-06 17:11:27
clustComp/-2025-02-06 17:11:27
clusterExperiment/-2025-02-06 17:11:27
clusterProfiler/-2025-02-06 17:11:27
clusterSeq/-2025-02-06 17:11:27
clusterStab/-2025-02-06 17:11:27
clustifyr/-2025-02-06 17:11:27
cmapR/-2025-02-06 17:11:27
cn.farms/-2025-02-06 17:11:27
cn.mops/-2025-02-06 17:11:28
cnvGSA/-2025-02-06 17:11:28
coGPS/-2025-02-06 17:11:28
coMET/-2025-02-06 17:11:28
coMethDMR/-2025-02-06 17:11:28
coRdon/-2025-02-06 17:11:29
codelink/-2025-02-06 17:11:28
cogena/-2025-02-06 17:11:28
cogeqc/-2025-02-06 17:11:28
cola/-2025-02-06 17:11:28
comapr/-2025-02-06 17:11:28
combi/-2025-02-06 17:11:28
compEpiTools/-2025-02-06 17:11:29
compSPOT/-2025-02-06 17:11:29
compcodeR/-2025-02-06 17:11:29
concordexR/-2025-02-06 17:11:29
condiments/-2025-02-06 17:11:29
consICA/-2025-02-06 17:11:29
consensus/-2025-02-06 17:11:29
consensusDE/-2025-02-06 17:11:29
consensusOV/-2025-02-06 17:11:29
consensusSeekeR/-2025-02-06 17:11:29
conumee/-2025-02-06 17:11:29
convert/-2025-02-06 17:11:29
copa/-2025-02-06 17:11:29
corral/-2025-02-06 17:11:29
coseq/-2025-02-06 17:11:29
cosmiq/-2025-02-06 17:11:29
cosmosR/-2025-02-06 17:11:29
countsimQC/-2025-02-06 17:11:30
covEB/-2025-02-06 17:11:30
covRNA/-2025-02-06 17:11:30
cpvSNP/-2025-02-06 17:11:30
cqn/-2025-02-06 17:11:30
crisprBase/-2025-02-06 17:11:30
crisprBowtie/-2025-02-06 17:11:30
crisprBwa/-2025-02-06 17:11:30
crisprDesign/-2025-02-06 17:11:30
crisprScore/-2025-02-06 17:11:30
crisprShiny/-2025-02-06 17:11:30
crisprVerse/-2025-02-06 17:11:30
crisprViz/-2025-02-06 17:11:30
crlmm/-2025-02-06 17:11:30
crossmeta/-2025-02-06 17:11:30
csaw/-2025-02-06 17:11:30
csdR/-2025-02-06 17:11:30
ctc/-2025-02-06 17:11:30
ctsGE/-2025-02-06 17:11:31
cummeRbund/-2025-02-06 17:11:31
customCMPdb/-2025-02-06 17:11:31
customProDB/-2025-02-06 17:11:31
cyanoFilter/-2025-02-06 17:11:31
cycle/-2025-02-06 17:11:31
cydar/-2025-02-06 17:11:31
cypress/-2025-02-06 17:11:31
cytoKernel/-2025-02-06 17:11:31
cytoMEM/-2025-02-06 17:11:31
cytofQC/-2025-02-06 17:11:31
cytolib/-2025-02-06 17:11:31
cytomapper/-2025-02-06 17:11:31
cytoviewer/-2025-02-06 17:11:31
dStruct/-2025-02-06 17:11:35
daMA/-2025-02-06 17:11:32
dada2/-2025-02-06 17:11:31
dagLogo/-2025-02-06 17:11:32
dar/-2025-02-06 17:11:32
dcGSA/-2025-02-06 17:11:32
dcanr/-2025-02-06 17:11:32
dce/-2025-02-06 17:11:32
ddCt/-2025-02-06 17:11:32
ddPCRclust/-2025-02-06 17:11:32
dearseq/-2025-02-06 17:11:32
debCAM/-2025-02-06 17:11:32
debrowser/-2025-02-06 17:11:32
decompTumor2Sig/-2025-02-06 17:11:32
decontX/-2025-02-06 17:11:32
decontam/-2025-02-06 17:11:32
deconvR/-2025-02-06 17:11:32
decoupleR/-2025-02-06 17:11:32
deepSNV/-2025-02-06 17:11:32
deltaCaptureC/-2025-02-06 17:11:33
deltaGseg/-2025-02-06 17:11:33
demuxSNP/-2025-02-06 17:11:33
demuxmix/-2025-02-06 17:11:33
densvis/-2025-02-06 17:11:33
derfinder/-2025-02-06 17:11:33
derfinderHelper/-2025-02-06 17:11:33
derfinderPlot/-2025-02-06 17:11:33
destiny/-2025-02-06 17:11:33
diffGeneAnalysis/-2025-02-06 17:11:34
diffHic/-2025-02-06 17:11:34
diffUTR/-2025-02-06 17:11:34
diffcoexp/-2025-02-06 17:11:34
diffcyt/-2025-02-06 17:11:34
diffuStats/-2025-02-06 17:11:34
diggit/-2025-02-06 17:11:34
dinoR/-2025-02-06 17:11:34
dir.expiry/-2025-02-06 17:11:34
discordant/-2025-02-06 17:11:34
distinct/-2025-02-06 17:11:34
dittoSeq/-2025-02-06 17:11:34
divergence/-2025-02-06 17:11:34
dks/-2025-02-06 17:11:34
dmrseq/-2025-02-06 17:11:35
dominoSignal/-2025-02-06 17:11:35
doppelgangR/-2025-02-06 17:11:35
doseR/-2025-02-06 17:11:35
doubletrouble/-2025-02-06 17:11:35
drawProteins/-2025-02-06 17:11:35
dreamlet/-2025-02-06 17:11:35
drugTargetInteractions/-2025-02-06 17:11:35
dupRadar/-2025-02-06 17:11:35
dyebias/-2025-02-06 17:11:35
easier/-2025-02-06 17:11:36
easyRNASeq/-2025-02-06 17:11:36
easylift/-2025-02-06 17:11:36
easyreporting/-2025-02-06 17:11:36
ecolitk/-2025-02-06 17:11:36
edge/-2025-02-06 17:11:36
edgeR/-2025-02-06 17:11:36
eds/-2025-02-06 17:11:36
eiR/-2025-02-06 17:11:36
eisaR/-2025-02-06 17:11:36
enhancerHomologSearch/-2025-02-06 17:11:36
enrichViewNet/-2025-02-06 17:11:37
enrichplot/-2025-02-06 17:11:37
ensembldb/-2025-02-06 17:11:37
epiNEM/-2025-02-06 17:11:37
epialleleR/-2025-02-06 17:11:37
epidecodeR/-2025-02-06 17:11:37
epigenomix/-2025-02-06 17:11:37
epigraHMM/-2025-02-06 17:11:37
epimutacions/-2025-02-06 17:11:37
epiregulon/-2025-02-06 17:11:37
epiregulon.extra/-2025-02-06 17:11:37
epistack/-2025-02-06 17:11:37
epistasisGA/-2025-02-06 17:11:37
epivizr/-2025-02-06 17:11:37
epivizrChart/-2025-02-06 17:11:37
epivizrData/-2025-02-06 17:11:37
epivizrServer/-2025-02-06 17:11:38
epivizrStandalone/-2025-02-06 17:11:38
erccdashboard/-2025-02-06 17:11:38
erma/-2025-02-06 17:11:38
esATAC/-2025-02-06 17:11:38
escape/-2025-02-06 17:11:38
escheR/-2025-02-06 17:11:38
esetVis/-2025-02-06 17:11:38
eudysbiome/-2025-02-06 17:11:38
evaluomeR/-2025-02-06 17:11:38
extraChIPs/-2025-02-06 17:11:38
fCCAC/-2025-02-06 17:11:39
fCI/-2025-02-06 17:11:39
fabia/-2025-02-06 17:11:38
factDesign/-2025-02-06 17:11:39
factR/-2025-02-06 17:11:39
faers/-2025-02-06 17:11:39
famat/-2025-02-06 17:11:39
fastLiquidAssociation/-2025-02-06 17:11:39
fastreeR/-2025-02-06 17:11:39
fastseg/-2025-02-06 17:11:39
fcScan/-2025-02-06 17:11:39
fdrame/-2025-02-06 17:11:39
fedup/-2025-02-06 17:11:39
fenr/-2025-02-06 17:11:39
ffpe/-2025-02-06 17:11:39
fgga/-2025-02-06 17:11:39
fgsea/-2025-02-06 17:11:39
findIPs/-2025-02-06 17:11:39
fishpond/-2025-02-06 17:11:39
flagme/-2025-02-06 17:11:40
flowAI/-2025-02-06 17:11:40
flowBeads/-2025-02-06 17:11:40
flowBin/-2025-02-06 17:11:40
flowCHIC/-2025-02-06 17:11:40
flowClean/-2025-02-06 17:11:40
flowClust/-2025-02-06 17:11:40
flowCore/-2025-02-06 17:11:40
flowCut/-2025-02-06 17:11:40
flowCyBar/-2025-02-06 17:11:40
flowDensity/-2025-02-06 17:11:40
flowFP/-2025-02-06 17:11:40
flowGate/-2025-02-06 17:11:40
flowGraph/-2025-02-06 17:11:40
flowMatch/-2025-02-06 17:11:40
flowMeans/-2025-02-06 17:11:40
flowMerge/-2025-02-06 17:11:40
flowPeaks/-2025-02-06 17:11:40
flowPloidy/-2025-02-06 17:11:40
flowPlots/-2025-02-06 17:11:40
flowSpecs/-2025-02-06 17:11:40
flowStats/-2025-02-06 17:11:40
flowTime/-2025-02-06 17:11:41
flowTrans/-2025-02-06 17:11:41
flowVS/-2025-02-06 17:11:41
flowViz/-2025-02-06 17:11:41
flowWorkspace/-2025-02-06 17:11:41
flowcatchR/-2025-02-06 17:11:40
fmcsR/-2025-02-06 17:11:41
fmrs/-2025-02-06 17:11:41
fobitools/-2025-02-06 17:11:41
frenchFISH/-2025-02-06 17:11:41
frma/-2025-02-06 17:11:41
frmaTools/-2025-02-06 17:11:41
funOmics/-2025-02-06 17:11:41
funtooNorm/-2025-02-06 17:11:41
gCrisprTools/-2025-02-06 17:11:42
gDNAx/-2025-02-06 17:11:42
gDR/-2025-02-06 17:11:42
gDRcore/-2025-02-06 17:11:42
gDRimport/-2025-02-06 17:11:42
gDRstyle/-2025-02-06 17:11:42
gDRutils/-2025-02-06 17:11:42
gINTomics/-2025-02-06 17:11:45
gaga/-2025-02-06 17:11:41
gage/-2025-02-06 17:11:41
garfield/-2025-02-06 17:11:41
gatom/-2025-02-06 17:11:41
gcapc/-2025-02-06 17:11:42
gcatest/-2025-02-06 17:11:42
gcrma/-2025-02-06 17:11:42
gdsfmt/-2025-02-06 17:11:42
geNetClassifier/-2025-02-06 17:11:43
gemini/-2025-02-06 17:11:42
gemma.R/-2025-02-06 17:11:42
genArise/-2025-02-06 17:11:42
geneAttribution/-2025-02-06 17:11:42
geneClassifiers/-2025-02-06 17:11:42
geneRecommender/-2025-02-06 17:11:43
geneRxCluster/-2025-02-06 17:11:43
geneXtendeR/-2025-02-06 17:11:43
genefilter/-2025-02-06 17:11:42
genefu/-2025-02-06 17:11:43
geneplast/-2025-02-06 17:11:43
geneplotter/-2025-02-06 17:11:43
genoCN/-2025-02-06 17:11:43
genomation/-2025-02-06 17:11:43
genomeIntervals/-2025-02-06 17:11:43
genomes/-2025-02-06 17:11:43
genomicInstability/-2025-02-06 17:11:44
geomeTriD/-2025-02-06 17:11:44
gep2pep/-2025-02-06 17:11:44
gespeR/-2025-02-06 17:11:44
getDEE2/-2025-02-06 17:11:44
geva/-2025-02-06 17:11:44
gg4way/-2025-02-06 17:11:44
ggbio/-2025-02-06 17:11:44
ggcyto/-2025-02-06 17:11:44
ggkegg/-2025-02-06 17:11:45
ggmanh/-2025-02-06 17:11:45
ggmsa/-2025-02-06 17:11:45
ggsc/-2025-02-06 17:11:45
ggseqalign/-2025-02-06 17:11:45
ggspavis/-2025-02-06 17:11:45
ggtree/-2025-02-06 17:11:45
ggtreeDendro/-2025-02-06 17:11:45
ggtreeExtra/-2025-02-06 17:11:45
ggtreeSpace/-2025-02-06 17:11:45
ginmappeR/-2025-02-06 17:11:45
girafe/-2025-02-06 17:11:45
glmGamPoi/-2025-02-06 17:11:45
glmSparseNet/-2025-02-06 17:11:45
globalSeq/-2025-02-06 17:11:45
globaltest/-2025-02-06 17:11:45
gmapR/-2025-02-06 17:11:45
gmoviz/-2025-02-06 17:11:45
goProfiles/-2025-02-06 17:11:46
goSTAG/-2025-02-06 17:11:46
goSorensen/-2025-02-06 17:11:46
goTools/-2025-02-06 17:11:46
goseq/-2025-02-06 17:11:46
gpls/-2025-02-06 17:11:46
gpuMagic/-2025-02-06 17:11:46
granulator/-2025-02-06 17:11:46
graper/-2025-02-06 17:11:46
graph/-2025-02-06 17:11:46
graphite/-2025-02-06 17:11:46
groHMM/-2025-02-06 17:11:46
gscreend/-2025-02-06 17:11:47
gsean/-2025-02-06 17:11:47
gtrellis/-2025-02-06 17:11:47
gwascat/-2025-02-06 17:11:47
gwasurvivr/-2025-02-06 17:11:47
gypsum/-2025-02-06 17:11:47
h5vc/-2025-02-06 17:11:47
hapFabia/-2025-02-06 17:11:47
hca/-2025-02-06 17:11:47
hdxmsqc/-2025-02-06 17:11:48
heatmaps/-2025-02-06 17:11:48
hermes/-2025-02-06 17:11:48
hiAnnotator/-2025-02-06 17:11:48
hiReadsProcessor/-2025-02-06 17:11:49
hicVennDiagram/-2025-02-06 17:11:48
hierGWAS/-2025-02-06 17:11:48
hierinf/-2025-02-06 17:11:48
hipathia/-2025-02-06 17:11:48
hmdbQuery/-2025-02-06 17:11:49
hoodscanR/-2025-02-06 17:11:49
hopach/-2025-02-06 17:11:49
hpar/-2025-02-06 17:11:49
hummingbird/-2025-02-06 17:11:49
hypeR/-2025-02-06 17:11:49
hyperdraw/-2025-02-06 17:11:49
hypergraph/-2025-02-06 17:11:49
iASeq/-2025-02-06 17:11:49
iBBiG/-2025-02-06 17:11:49
iBMQ/-2025-02-06 17:11:49
iCARE/-2025-02-06 17:11:49
iCNV/-2025-02-06 17:11:50
iCOBRA/-2025-02-06 17:11:50
iCheck/-2025-02-06 17:11:50
iChip/-2025-02-06 17:11:50
iClusterPlus/-2025-02-06 17:11:50
iGC/-2025-02-06 17:11:50
iNETgrate/-2025-02-06 17:11:51
iPAC/-2025-02-06 17:11:51
iPath/-2025-02-06 17:11:51
iSEE/-2025-02-06 17:11:52
iSEEde/-2025-02-06 17:11:52
iSEEfier/-2025-02-06 17:11:52
iSEEhex/-2025-02-06 17:11:52
iSEEhub/-2025-02-06 17:11:52
iSEEindex/-2025-02-06 17:11:52
iSEEpathways/-2025-02-06 17:11:52
iSEEtree/-2025-02-06 17:11:52
iSEEu/-2025-02-06 17:11:52
iSeq/-2025-02-06 17:11:52
iasva/-2025-02-06 17:11:49
ibh/-2025-02-06 17:11:49
icetea/-2025-02-06 17:11:50
ideal/-2025-02-06 17:11:50
idiogram/-2025-02-06 17:11:50
idpr/-2025-02-06 17:11:50
idr2d/-2025-02-06 17:11:50
igvR/-2025-02-06 17:11:50
igvShiny/-2025-02-06 17:11:50
illuminaio/-2025-02-06 17:11:50
imcRtools/-2025-02-06 17:11:50
immApex/-2025-02-06 17:11:50
immunoClust/-2025-02-06 17:11:50
immunogenViewer/-2025-02-06 17:11:51
immunotation/-2025-02-06 17:11:51
impute/-2025-02-06 17:11:51
infercnv/-2025-02-06 17:11:51
infinityFlow/-2025-02-06 17:11:51
intansv/-2025-02-06 17:11:51
interacCircos/-2025-02-06 17:11:51
interactiveDisplay/-2025-02-06 17:11:51
interactiveDisplayBase/-2025-02-06 17:11:51
ipdDb/-2025-02-06 17:11:51
isobar/-2025-02-06 17:11:52
isomiRs/-2025-02-06 17:11:52
iterativeBMA/-2025-02-06 17:11:52
iterativeBMAsurv/-2025-02-06 17:11:52
ivygapSE/-2025-02-06 17:11:52
karyoploteR/-2025-02-06 17:11:52
katdetectr/-2025-02-06 17:11:52
kebabs/-2025-02-06 17:11:53
keggorthology/-2025-02-06 17:11:53
kissDE/-2025-02-06 17:11:53
kmcut/-2025-02-06 17:11:53
knowYourCG/-2025-02-06 17:11:53
koinar/-2025-02-06 17:11:53
lapmix/-2025-02-06 17:11:53
ldblock/-2025-02-06 17:11:53
lefser/-2025-02-06 17:11:53
lemur/-2025-02-06 17:11:53
les/-2025-02-06 17:11:53
levi/-2025-02-06 17:11:53
lfa/-2025-02-06 17:11:53
limma/-2025-02-06 17:11:53
limmaGUI/-2025-02-06 17:11:53
limpca/-2025-02-06 17:11:54
lineagespot/-2025-02-06 17:11:54
lionessR/-2025-02-06 17:11:57
lipidr/-2025-02-06 17:11:57
lisaClust/-2025-02-06 17:11:57
lmdme/-2025-02-06 17:11:57
loci2path/-2025-02-06 17:11:57
logicFS/-2025-02-06 17:11:57
lpNet/-2025-02-06 17:11:57
lpsymphony/-2025-02-06 17:11:57
lumi/-2025-02-06 17:11:57
lute/-2025-02-06 17:11:57
m6Aboost/-2025-02-06 17:11:57
mBPCR/-2025-02-06 17:12:02
mCSEA/-2025-02-06 17:12:02
maCorrPlot/-2025-02-06 17:11:57
maPredictDSC/-2025-02-06 17:11:58
maSigPro/-2025-02-06 17:11:58
made4/-2025-02-06 17:11:58
maftools/-2025-02-06 17:11:58
magpie/-2025-02-06 17:11:58
magrene/-2025-02-06 17:11:58
makecdfenv/-2025-02-06 17:11:58
mapscape/-2025-02-06 17:11:58
mariner/-2025-02-06 17:11:58
marr/-2025-02-06 17:11:58
marray/-2025-02-06 17:11:58
martini/-2025-02-06 17:11:58
maser/-2025-02-06 17:11:58
maskBAD/-2025-02-06 17:11:58
massiR/-2025-02-06 17:11:58
mastR/-2025-02-06 17:11:58
matchBox/-2025-02-06 17:11:58
matter/-2025-02-06 17:12:02
mbQTL/-2025-02-06 17:12:02
mbkmeans/-2025-02-06 17:12:02
mdp/-2025-02-06 17:12:02
mdqc/-2025-02-06 17:12:02
megadepth/-2025-02-06 17:12:02
memes/-2025-02-06 17:12:02
meshes/-2025-02-06 17:12:03
meshr/-2025-02-06 17:12:03
messina/-2025-02-06 17:12:03
metaCCA/-2025-02-06 17:12:03
metaMS/-2025-02-06 17:12:03
metaSeq/-2025-02-06 17:12:03
metabCombiner/-2025-02-06 17:12:03
metabinR/-2025-02-06 17:12:03
metabolomicsWorkbenchR/-2025-02-06 17:12:03
metabomxtr/-2025-02-06 17:12:03
metagene2/-2025-02-06 17:12:03
metagenomeSeq/-2025-02-06 17:12:03
metahdep/-2025-02-06 17:12:03
metapod/-2025-02-06 17:12:03
metapone/-2025-02-06 17:12:03
metaseqR2/-2025-02-06 17:12:03
methInheritSim/-2025-02-06 17:12:03
methimpute/-2025-02-06 17:12:03
methodical/-2025-02-06 17:12:03
methrix/-2025-02-06 17:12:04
methyLImp2/-2025-02-06 17:12:04
methylCC/-2025-02-06 17:12:04
methylGSA/-2025-02-06 17:12:04
methylInheritance/-2025-02-06 17:12:04
methylKit/-2025-02-06 17:12:04
methylMnM/-2025-02-06 17:12:04
methylPipe/-2025-02-06 17:12:04
methylSig/-2025-02-06 17:12:04
methylclock/-2025-02-06 17:12:04
methylscaper/-2025-02-06 17:12:04
methylumi/-2025-02-06 17:12:04
mfa/-2025-02-06 17:12:04
mgsa/-2025-02-06 17:12:04
miQC/-2025-02-06 17:12:05
miRBaseConverter/-2025-02-06 17:12:05
miRLAB/-2025-02-06 17:12:06
miRNAmeConverter/-2025-02-06 17:12:06
miRNApath/-2025-02-06 17:12:06
miRNAtap/-2025-02-06 17:12:06
miRSM/-2025-02-06 17:12:06
miRcomp/-2025-02-06 17:12:05
miRspongeR/-2025-02-06 17:12:06
mia/-2025-02-06 17:12:05
miaSim/-2025-02-06 17:12:05
miaViz/-2025-02-06 17:12:05
microRNA/-2025-02-06 17:12:05
microSTASIS/-2025-02-06 17:12:05
microbiome/-2025-02-06 17:12:05
microbiomeDASim/-2025-02-06 17:12:05
microbiomeExplorer/-2025-02-06 17:12:05
microbiomeMarker/-2025-02-06 17:12:05
midasHLA/-2025-02-06 17:12:05
miloR/-2025-02-06 17:12:05
mimager/-2025-02-06 17:12:05
mina/-2025-02-06 17:12:05
minet/-2025-02-06 17:12:05
minfi/-2025-02-06 17:12:05
mirIntegrator/-2025-02-06 17:12:06
mirTarRnaSeq/-2025-02-06 17:12:06
missMethyl/-2025-02-06 17:12:06
missRows/-2025-02-06 17:12:06
mistyR/-2025-02-06 17:12:06
mitch/-2025-02-06 17:12:06
mitoClone2/-2025-02-06 17:12:06
mixOmics/-2025-02-06 17:12:06
mnem/-2025-02-06 17:12:06
moanin/-2025-02-06 17:12:06
mobileRNA/-2025-02-06 17:12:06
mogsa/-2025-02-06 17:12:07
monaLisa/-2025-02-06 17:12:07
monocle/-2025-02-06 17:12:07
mosaics/-2025-02-06 17:12:07
mosbi/-2025-02-06 17:12:07
mosdef/-2025-02-06 17:12:07
motifStack/-2025-02-06 17:12:07
motifTestR/-2025-02-06 17:12:07
motifbreakR/-2025-02-06 17:12:07
motifcounter/-2025-02-06 17:12:07
motifmatchr/-2025-02-06 17:12:07
mpra/-2025-02-06 17:12:07
msImpute/-2025-02-06 17:12:08
msPurity/-2025-02-06 17:12:08
msa/-2025-02-06 17:12:07
msgbsR/-2025-02-06 17:12:08
mslp/-2025-02-06 17:12:08
msmsEDA/-2025-02-06 17:12:08
msmsTests/-2025-02-06 17:12:08
msqrob2/-2025-02-06 17:12:08
multiClust/-2025-02-06 17:12:09
multiGSEA/-2025-02-06 17:12:09
multiHiCcompare/-2025-02-06 17:12:09
multiMiR/-2025-02-06 17:12:09
multiWGCNA/-2025-02-06 17:12:09
multicrispr/-2025-02-06 17:12:09
multiscan/-2025-02-06 17:12:09
multistateQTL/-2025-02-06 17:12:09
multtest/-2025-02-06 17:12:09
mumosa/-2025-02-06 17:12:09
muscat/-2025-02-06 17:12:09
muscle/-2025-02-06 17:12:09
musicatk/-2025-02-06 17:12:09
mygene/-2025-02-06 17:12:09
myvariant/-2025-02-06 17:12:10
mzID/-2025-02-06 17:12:10
mzR/-2025-02-06 17:12:10
nanotatoR/-2025-02-06 17:12:10
ncGTW/-2025-02-06 17:12:10
ncRNAtools/-2025-02-06 17:12:10
ncdfFlow/-2025-02-06 17:12:10
ndexr/-2025-02-06 17:12:10
nearBynding/-2025-02-06 17:12:10
nempi/-2025-02-06 17:12:10
netDx/-2025-02-06 17:12:10
netOmics/-2025-02-06 17:12:10
netSmooth/-2025-02-06 17:12:11
netZooR/-2025-02-06 17:12:11
netboost/-2025-02-06 17:12:10
nethet/-2025-02-06 17:12:10
netprioR/-2025-02-06 17:12:10
netresponse/-2025-02-06 17:12:10
ngsReports/-2025-02-06 17:12:11
nipalsMCIA/-2025-02-06 17:12:11
nnNorm/-2025-02-06 17:12:11
nnSVG/-2025-02-06 17:12:11
nondetects/-2025-02-06 17:12:11
normalize450K/-2025-02-06 17:12:11
normr/-2025-02-06 17:12:11
npGSEA/-2025-02-06 17:12:11
nuCpos/-2025-02-06 17:12:11
nucleR/-2025-02-06 17:12:11
nucleoSim/-2025-02-06 17:12:11
nullranges/-2025-02-06 17:12:11
occugene/-2025-02-06 17:12:11
octad/-2025-02-06 17:12:11
odseq/-2025-02-06 17:12:11
oligo/-2025-02-06 17:12:12
oligoClasses/-2025-02-06 17:12:12
omXplore/-2025-02-06 17:12:12
omada/-2025-02-06 17:12:12
omicRexposome/-2025-02-06 17:12:12
omicade4/-2025-02-06 17:12:12
omicplotR/-2025-02-06 17:12:12
omicsPrint/-2025-02-06 17:12:12
omicsViewer/-2025-02-06 17:12:12
ompBAM/-2025-02-06 17:12:12
oncomix/-2025-02-06 17:12:12
oncoscanR/-2025-02-06 17:12:12
onlineFDR/-2025-02-06 17:12:12
ontoProc/-2025-02-06 17:12:12
openCyto/-2025-02-06 17:12:12
openPrimeR/-2025-02-06 17:12:12
oposSOM/-2025-02-06 17:12:13
oppar/-2025-02-06 17:12:13
oppti/-2025-02-06 17:12:13
optimalFlow/-2025-02-06 17:12:13
orthogene/-2025-02-06 17:12:13
orthos/-2025-02-06 17:12:13
pRoloc/-2025-02-06 17:12:18
pRolocGUI/-2025-02-06 17:12:18
packFinder/-2025-02-06 17:12:13
padma/-2025-02-06 17:12:13
pageRank/-2025-02-06 17:12:14
paircompviz/-2025-02-06 17:12:14
pairedGSEA/-2025-02-06 17:12:14
pairkat/-2025-02-06 17:12:14
pandaR/-2025-02-06 17:12:14
panelcn.mops/-2025-02-06 17:12:14
panp/-2025-02-06 17:12:14
pareg/-2025-02-06 17:12:14
parglms/-2025-02-06 17:12:14
parody/-2025-02-06 17:12:14
partCNV/-2025-02-06 17:12:14
pathRender/-2025-02-06 17:12:14
pathifier/-2025-02-06 17:12:14
pathlinkR/-2025-02-06 17:12:14
pathview/-2025-02-06 17:12:14
pathwayPCA/-2025-02-06 17:12:14
paxtoolsr/-2025-02-06 17:12:14
pcaExplorer/-2025-02-06 17:12:14
pcaMethods/-2025-02-06 17:12:14
pdInfoBuilder/-2025-02-06 17:12:15
peakPantheR/-2025-02-06 17:12:15
peco/-2025-02-06 17:12:15
pengls/-2025-02-06 17:12:15
pepStat/-2025-02-06 17:12:15
pepXMLTab/-2025-02-06 17:12:15
periodicDNA/-2025-02-06 17:12:15
pfamAnalyzeR/-2025-02-06 17:12:15
pgca/-2025-02-06 17:12:15
pgxRpi/-2025-02-06 17:12:15
phantasus/-2025-02-06 17:12:15
phantasusLite/-2025-02-06 17:12:15
phenoTest/-2025-02-06 17:12:15
phenomis/-2025-02-06 17:12:15
phenopath/-2025-02-06 17:12:15
philr/-2025-02-06 17:12:16
phosphonormalizer/-2025-02-06 17:12:16
phyloseq/-2025-02-06 17:12:16
piano/-2025-02-06 17:12:16
pickgene/-2025-02-06 17:12:16
pipeComp/-2025-02-06 17:12:16
pipeFrame/-2025-02-06 17:12:16
planet/-2025-02-06 17:12:16
planttfhunter/-2025-02-06 17:12:16
plasmut/-2025-02-06 17:12:16
plgem/-2025-02-06 17:12:16
plier/-2025-02-06 17:12:16
plotGrouper/-2025-02-06 17:12:16
plotgardener/-2025-02-06 17:12:16
plyinteractions/-2025-02-06 17:12:16
plyranges/-2025-02-06 17:12:17
plyxp/-2025-02-06 17:12:17
pmm/-2025-02-06 17:12:17
pmp/-2025-02-06 17:12:17
podkat/-2025-02-06 17:12:17
pogos/-2025-02-06 17:12:17
polyester/-2025-02-06 17:12:17
powerTCR/-2025-02-06 17:12:17
ppcseq/-2025-02-06 17:12:17
pqsfinder/-2025-02-06 17:12:17
pram/-2025-02-06 17:12:17
prebs/-2025-02-06 17:12:17
preciseTAD/-2025-02-06 17:12:17
preprocessCore/-2025-02-06 17:12:17
primirTSS/-2025-02-06 17:12:17
proActiv/-2025-02-06 17:12:17
proBAMr/-2025-02-06 17:12:17
proDA/-2025-02-06 17:12:17
procoil/-2025-02-06 17:12:17
profileScoreDist/-2025-02-06 17:12:18
profileplyr/-2025-02-06 17:12:18
progeny/-2025-02-06 17:12:18
projectR/-2025-02-06 17:12:18
protGear/-2025-02-06 17:12:18
proteinProfiles/-2025-02-06 17:12:18
psichomics/-2025-02-06 17:12:18
psygenet2r/-2025-02-06 17:12:18
ptairMS/-2025-02-06 17:12:18
puma/-2025-02-06 17:12:18
pvac/-2025-02-06 17:12:18
pvca/-2025-02-06 17:12:18
pwalign/-2025-02-06 17:12:18
qPLEXanalyzer/-2025-02-06 17:12:19
qckitfastq/-2025-02-06 17:12:19
qcmetrics/-2025-02-06 17:12:19
qmtools/-2025-02-06 17:12:19
qpcrNorm/-2025-02-06 17:12:19
qpgraph/-2025-02-06 17:12:19
qsea/-2025-02-06 17:12:19
qsmooth/-2025-02-06 17:12:19
qsvaR/-2025-02-06 17:12:19
quantiseqr/-2025-02-06 17:12:19
quantro/-2025-02-06 17:12:19
quantsmooth/-2025-02-06 17:12:19
qusage/-2025-02-06 17:12:19
qvalue/-2025-02-06 17:12:19
r3Cseq/-2025-02-06 17:12:19
rBLAST/-2025-02-06 17:12:21
rBiopaxParser/-2025-02-06 17:12:21
rCGH/-2025-02-06 17:12:21
rDGIdb/-2025-02-06 17:12:22
rGADEM/-2025-02-06 17:12:23
rGREAT/-2025-02-06 17:12:23
rGenomeTracks/-2025-02-06 17:12:23
rRDP/-2025-02-06 17:12:26
rSWeeP/-2025-02-06 17:12:26
rScudo/-2025-02-06 17:12:26
rTRM/-2025-02-06 17:12:26
rTRMui/-2025-02-06 17:12:26
rWikiPathways/-2025-02-06 17:12:27
raer/-2025-02-06 17:12:20
rain/-2025-02-06 17:12:20
ramr/-2025-02-06 17:12:20
ramwas/-2025-02-06 17:12:20
randPack/-2025-02-06 17:12:20
randRotation/-2025-02-06 17:12:20
rawDiag/-2025-02-06 17:12:20
rawrr/-2025-02-06 17:12:20
rbsurv/-2025-02-06 17:12:21
rcellminer/-2025-02-06 17:12:21
rebook/-2025-02-06 17:12:22
receptLoss/-2025-02-06 17:12:22
reconsi/-2025-02-06 17:12:22
recount/-2025-02-06 17:12:22
recount3/-2025-02-06 17:12:22
recountmethylation/-2025-02-06 17:12:22
recoup/-2025-02-06 17:12:22
regionReport/-2025-02-06 17:12:22
regionalpcs/-2025-02-06 17:12:22
regioneR/-2025-02-06 17:12:22
regioneReloaded/-2025-02-06 17:12:22
regsplice/-2025-02-06 17:12:22
regutools/-2025-02-06 17:12:23
retrofit/-2025-02-06 17:12:23
rexposome/-2025-02-06 17:12:23
rfPred/-2025-02-06 17:12:23
rfaRm/-2025-02-06 17:12:23
rgoslin/-2025-02-06 17:12:23
rgsepd/-2025-02-06 17:12:23
rhdf5/-2025-02-06 17:12:23
rhdf5client/-2025-02-06 17:12:23
rhdf5filters/-2025-02-06 17:12:23
rhinotypeR/-2025-02-06 17:12:23
riboSeqR/-2025-02-06 17:12:24
ribor/-2025-02-06 17:12:24
ribosomeProfilingQC/-2025-02-06 17:12:24
rifi/-2025-02-06 17:12:24
rifiComparative/-2025-02-06 17:12:24
rmelting/-2025-02-06 17:12:24
rmspc/-2025-02-06 17:12:24
rnaEditr/-2025-02-06 17:12:24
rnaseqcomp/-2025-02-06 17:12:25
roar/-2025-02-06 17:12:25
roastgsa/-2025-02-06 17:12:25
rols/-2025-02-06 17:12:25
ropls/-2025-02-06 17:12:25
rprimer/-2025-02-06 17:12:25
rpx/-2025-02-06 17:12:25
rqt/-2025-02-06 17:12:25
rqubic/-2025-02-06 17:12:26
rrvgo/-2025-02-06 17:12:26
rsbml/-2025-02-06 17:12:26
rsemmed/-2025-02-06 17:12:26
rtracklayer/-2025-02-06 17:12:26
runibic/-2025-02-06 17:12:26
sRACIPE/-2025-02-06 17:12:35
sSNAPPY/-2025-02-06 17:12:36
sSeq/-2025-02-06 17:12:36
safe/-2025-02-06 17:12:27
sagenhaft/-2025-02-06 17:12:27
sampleClassifier/-2025-02-06 17:12:27
sangeranalyseR/-2025-02-06 17:12:27
sangerseqR/-2025-02-06 17:12:27
sarks/-2025-02-06 17:12:27
saseR/-2025-02-06 17:12:27
satuRn/-2025-02-06 17:12:27
scAnnotatR/-2025-02-06 17:12:28
scBFA/-2025-02-06 17:12:28
scBubbletree/-2025-02-06 17:12:28
scCB2/-2025-02-06 17:12:28
scClassify/-2025-02-06 17:12:28
scDD/-2025-02-06 17:12:28
scDDboost/-2025-02-06 17:12:28
scDataviz/-2025-02-06 17:12:28
scDblFinder/-2025-02-06 17:12:28
scDesign3/-2025-02-06 17:12:28
scDiagnostics/-2025-02-06 17:12:28
scDotPlot/-2025-02-06 17:12:28
scFeatureFilter/-2025-02-06 17:12:28
scFeatures/-2025-02-06 17:12:28
scGPS/-2025-02-06 17:12:29
scHOT/-2025-02-06 17:12:29
scMET/-2025-02-06 17:12:29
scMerge/-2025-02-06 17:12:29
scMitoMut/-2025-02-06 17:12:29
scMultiSim/-2025-02-06 17:12:29
scPCA/-2025-02-06 17:12:29
scPipe/-2025-02-06 17:12:29
scRNAseqApp/-2025-02-06 17:12:30
scReClassify/-2025-02-06 17:12:29
scRecover/-2025-02-06 17:12:29
scRepertoire/-2025-02-06 17:12:30
scShapes/-2025-02-06 17:12:30
scTGIF/-2025-02-06 17:12:30
scTHI/-2025-02-06 17:12:30
scTensor/-2025-02-06 17:12:30
scTreeViz/-2025-02-06 17:12:30
scanMiR/-2025-02-06 17:12:28
scanMiRApp/-2025-02-06 17:12:28
scater/-2025-02-06 17:12:28
scatterHatch/-2025-02-06 17:12:28
sccomp/-2025-02-06 17:12:28
scde/-2025-02-06 17:12:28
scds/-2025-02-06 17:12:28
schex/-2025-02-06 17:12:29
scider/-2025-02-06 17:12:29
scifer/-2025-02-06 17:12:29
scmap/-2025-02-06 17:12:29
scmeth/-2025-02-06 17:12:29
scone/-2025-02-06 17:12:29
scoreInvHap/-2025-02-06 17:12:29
scoup/-2025-02-06 17:12:29
scp/-2025-02-06 17:12:29
scran/-2025-02-06 17:12:29
scrapper/-2025-02-06 17:12:29
screenCounter/-2025-02-06 17:12:30
scruff/-2025-02-06 17:12:30
scry/-2025-02-06 17:12:30
scuttle/-2025-02-06 17:12:30
scviR/-2025-02-06 17:12:30
seahtrue/-2025-02-06 17:12:30
sechm/-2025-02-06 17:12:30
segmentSeq/-2025-02-06 17:12:30
segmenter/-2025-02-06 17:12:30
selectKSigs/-2025-02-06 17:12:30
semisup/-2025-02-06 17:12:30
seq.hotSPOT/-2025-02-06 17:12:30
seq2pathway/-2025-02-06 17:12:30
seqArchR/-2025-02-06 17:12:30
seqArchRplus/-2025-02-06 17:12:30
seqCAT/-2025-02-06 17:12:31
seqLogo/-2025-02-06 17:12:31
seqPattern/-2025-02-06 17:12:31
seqTools/-2025-02-06 17:12:31
seqcombo/-2025-02-06 17:12:31
seqsetvis/-2025-02-06 17:12:31
sesame/-2025-02-06 17:12:31
sevenC/-2025-02-06 17:12:31
sevenbridges/-2025-02-06 17:12:31
shiny.gosling/-2025-02-06 17:12:31
shinyMethyl/-2025-02-06 17:12:31
shinyepico/-2025-02-06 17:12:31
sigFeature/-2025-02-06 17:12:32
siggenes/-2025-02-06 17:12:32
sights/-2025-02-06 17:12:32
signatureSearch/-2025-02-06 17:12:32
signeR/-2025-02-06 17:12:32
signifinder/-2025-02-06 17:12:32
sigsquared/-2025-02-06 17:12:32
simPIC/-2025-02-06 17:12:32
similaRpeak/-2025-02-06 17:12:32
simona/-2025-02-06 17:12:32
simpleSeg/-2025-02-06 17:12:32
simplifyEnrichment/-2025-02-06 17:12:32
sincell/-2025-02-06 17:12:32
single/-2025-02-06 17:12:32
singleCellTK/-2025-02-06 17:12:33
singscore/-2025-02-06 17:12:33
sitadela/-2025-02-06 17:12:33
sitePath/-2025-02-06 17:12:33
sizepower/-2025-02-06 17:12:33
sketchR/-2025-02-06 17:12:33
skewr/-2025-02-06 17:12:33
slalom/-2025-02-06 17:12:33
slingshot/-2025-02-06 17:12:33
smartid/-2025-02-06 17:12:33
smoothclust/-2025-02-06 17:12:33
snapcount/-2025-02-06 17:12:33
snifter/-2025-02-06 17:12:33
snm/-2025-02-06 17:12:33
snpStats/-2025-02-06 17:12:33
soGGi/-2025-02-06 17:12:34
spaSim/-2025-02-06 17:12:34
sparrow/-2025-02-06 17:12:34
sparseMatrixStats/-2025-02-06 17:12:34
sparsenetgls/-2025-02-06 17:12:34
spatialDE/-2025-02-06 17:12:34
spatialHeatmap/-2025-02-06 17:12:34
spatialSimGP/-2025-02-06 17:12:34
spatzie/-2025-02-06 17:12:34
specL/-2025-02-06 17:12:34
speckle/-2025-02-06 17:12:34
spicyR/-2025-02-06 17:12:35
spikeLI/-2025-02-06 17:12:35
spiky/-2025-02-06 17:12:35
spillR/-2025-02-06 17:12:35
spkTools/-2025-02-06 17:12:35
splatter/-2025-02-06 17:12:35
splineTimeR/-2025-02-06 17:12:35
splots/-2025-02-06 17:12:35
spoon/-2025-02-06 17:12:35
spqn/-2025-02-06 17:12:35
squallms/-2025-02-06 17:12:35
srnadiff/-2025-02-06 17:12:36
ssPATHS/-2025-02-06 17:12:36
sscu/-2025-02-06 17:12:36
ssize/-2025-02-06 17:12:36
ssrch/-2025-02-06 17:12:36
ssviz/-2025-02-06 17:12:36
stJoincount/-2025-02-06 17:12:36
staRank/-2025-02-06 17:12:36
stageR/-2025-02-06 17:12:36
standR/-2025-02-06 17:12:36
statTarget/-2025-02-06 17:12:36
stepNorm/-2025-02-06 17:12:36
strandCheckR/-2025-02-06 17:12:36
struct/-2025-02-06 17:12:36
structToolbox/-2025-02-06 17:12:36
subSeq/-2025-02-06 17:12:37
supersigs/-2025-02-06 17:12:37
supraHex/-2025-02-06 17:12:37
surfaltr/-2025-02-06 17:12:37
survClust/-2025-02-06 17:12:37
survcomp/-2025-02-06 17:12:37
survtype/-2025-02-06 17:12:37
sva/-2025-02-06 17:12:37
svaNUMT/-2025-02-06 17:12:37
svaRetro/-2025-02-06 17:12:37
swfdr/-2025-02-06 17:12:37
switchBox/-2025-02-06 17:12:37
switchde/-2025-02-06 17:12:37
synapsis/-2025-02-06 17:12:37
synapter/-2025-02-06 17:12:37
synergyfinder/-2025-02-06 17:12:37
synlet/-2025-02-06 17:12:38
syntenet/-2025-02-06 17:12:38
systemPipeR/-2025-02-06 17:12:38
systemPipeShiny/-2025-02-06 17:12:38
systemPipeTools/-2025-02-06 17:12:38
tLOH/-2025-02-06 17:12:40
tRNA/-2025-02-06 17:12:41
tRNAdbImport/-2025-02-06 17:12:41
tRNAscanImport/-2025-02-06 17:12:41
tRanslatome/-2025-02-06 17:12:41
tadar/-2025-02-06 17:12:38
tanggle/-2025-02-06 17:12:38
target/-2025-02-06 17:12:38
tenXplore/-2025-02-06 17:12:38
ternarynet/-2025-02-06 17:12:39
terraTCGAdata/-2025-02-06 17:12:39
tidyCoverage/-2025-02-06 17:12:39
tidyFlowCore/-2025-02-06 17:12:39
tidySingleCellExperiment/-2025-02-06 17:12:39
tidySpatialExperiment/-2025-02-06 17:12:39
tidySummarizedExperiment/-2025-02-06 17:12:39
tidybulk/-2025-02-06 17:12:39
tidyomics/-2025-02-06 17:12:39
tidysbml/-2025-02-06 17:12:39
tidytof/-2025-02-06 17:12:39
tigre/-2025-02-06 17:12:39
tilingArray/-2025-02-06 17:12:39
timeOmics/-2025-02-06 17:12:39
timecourse/-2025-02-06 17:12:39
timescape/-2025-02-06 17:12:39
tkWidgets/-2025-02-06 17:12:40
tomoda/-2025-02-06 17:12:40
tomoseqr/-2025-02-06 17:12:40
topGO/-2025-02-06 17:12:40
topconfects/-2025-02-06 17:12:40
topdownr/-2025-02-06 17:12:40
tpSVG/-2025-02-06 17:12:40
trackViewer/-2025-02-06 17:12:40
tracktables/-2025-02-06 17:12:40
tradeSeq/-2025-02-06 17:12:40
transcriptR/-2025-02-06 17:12:40
transcriptogramer/-2025-02-06 17:12:40
transformGamPoi/-2025-02-06 17:12:41
transite/-2025-02-06 17:12:41
transmogR/-2025-02-06 17:12:41
transomics2cytoscape/-2025-02-06 17:12:41
traseR/-2025-02-06 17:12:41
traviz/-2025-02-06 17:12:41
treeclimbR/-2025-02-06 17:12:41
treeio/-2025-02-06 17:12:41
treekoR/-2025-02-06 17:12:41
tricycle/-2025-02-06 17:12:41
trigger/-2025-02-06 17:12:41
trio/-2025-02-06 17:12:41
triplex/-2025-02-06 17:12:41
tripr/-2025-02-06 17:12:41
ttgsea/-2025-02-06 17:12:42
tweeDEseq/-2025-02-06 17:12:42
twilight/-2025-02-06 17:12:42
twoddpcr/-2025-02-06 17:12:42
txcutr/-2025-02-06 17:12:42
txdbmaker/-2025-02-06 17:12:42
tximeta/-2025-02-06 17:12:42
tximport/-2025-02-06 17:12:42
uSORT/-2025-02-06 17:12:43
uncoverappLib/-2025-02-06 17:12:42
unifiedWMWqPCR/-2025-02-06 17:12:42
universalmotif/-2025-02-06 17:12:43
updateObject/-2025-02-06 17:12:43
variancePartition/-2025-02-06 17:12:43
vbmp/-2025-02-06 17:12:43
velociraptor/-2025-02-06 17:12:43
veloviz/-2025-02-06 17:12:43
vidger/-2025-02-06 17:12:43
viper/-2025-02-06 17:12:43
vissE/-2025-02-06 17:12:44
vsclust/-2025-02-06 17:12:44
vsn/-2025-02-06 17:12:44
vtpnet/-2025-02-06 17:12:44
vulcan/-2025-02-06 17:12:44
waddR/-2025-02-06 17:12:44
wateRmelon/-2025-02-06 17:12:44
wavClusteR/-2025-02-06 17:12:44
weaver/-2025-02-06 17:12:44
webbioc/-2025-02-06 17:12:44
weitrix/-2025-02-06 17:12:44
widgetTools/-2025-02-06 17:12:44
wiggleplotr/-2025-02-06 17:12:44
wpm/-2025-02-06 17:12:44
wppi/-2025-02-06 17:12:44
xcms/-2025-02-06 17:12:44
xcore/-2025-02-06 17:12:44
xenLite/-2025-02-06 17:12:45
xmapbridge/-2025-02-06 17:12:45
yamss/-2025-02-06 17:12:45
yarn/-2025-02-06 17:12:45
zFPKM/-2025-02-06 17:12:45
zellkonverter/-2025-02-06 17:12:45
zenith/-2025-02-06 17:12:45
zinbwave/-2025-02-06 17:12:46
zitools/-2025-02-06 17:12:46
zlibbioc/-2025-02-06 17:12:46
120px-Blue_Light_Icon.svg.png7.1 KiB2025-02-06 17:02:35
120px-Green_Light_Icon.svg.png7.1 KiB2025-02-06 17:02:35
120px-Red_Light_Icon.svg.png7.0 KiB2025-02-06 17:02:35
BUILD_STATUS_DB.txt1.2 MiB2025-02-06 17:02:34
DEVEL3b.png2.6 KiB2025-02-06 17:02:35
PROPAGATION_STATUS_DB.txt643.8 KiB2025-02-06 17:02:34
Renviron.bioc3.2 KiB2025-02-06 17:02:35
index.html1.3 MiB2025-02-06 17:13:07
kjohnson1-NodeInfo.html6.6 KiB2025-02-06 17:02:35
kjohnson1-R-instpkgs.html595.5 KiB2025-02-06 17:02:35
kjohnson1-index.html3.3 MiB2025-02-06 17:13:00
kjohnson3-NodeInfo.html6.7 KiB2024-11-10 02:23:43
kjohnson3-R-instpkgs.html596.8 KiB2024-11-10 02:23:43
kjohnson3-index.html3.2 MiB2024-11-10 02:33:37
kunpeng2-NodeInfo.html6.9 KiB2024-11-20 17:00:23
kunpeng2-R-instpkgs.html466.1 KiB2024-11-20 17:00:24
kunpeng2-index.html2.5 MiB2024-11-20 17:08:43
lconway-NodeInfo.html6.7 KiB2024-11-20 17:00:23
lconway-R-instpkgs.html608.3 KiB2024-11-20 17:00:24
lconway-index.html3.3 MiB2024-11-20 17:08:38
long-report.html15.9 MiB2025-02-06 17:13:27
meat-index.dcf235.7 KiB2025-02-06 17:02:34
merida1-NodeInfo.html6.7 KiB2025-02-06 17:02:35
merida1-R-instpkgs.html606.3 KiB2025-02-06 17:02:35
merida1-index.html3.1 MiB2025-02-06 17:12:55
nebbiolo2-NodeInfo.html6.9 KiB2025-02-06 17:02:35
nebbiolo2-R-instpkgs.html520.9 KiB2025-02-06 17:02:35
nebbiolo2-index.html2.9 MiB2025-02-06 17:12:47
palomino4-NodeInfo.html7.0 KiB2024-06-11 19:37:50
palomino4-R-instpkgs.html453.6 KiB2024-06-11 19:37:50
palomino4-index.html3.2 MiB2024-06-11 19:44:00
palomino6-NodeInfo.html6.9 KiB2024-07-16 15:37:06
palomino6-R-instpkgs.html479.7 KiB2024-07-16 15:37:06
palomino6-index.html2.9 MiB2024-07-16 15:46:11
palomino8-NodeInfo.html6.9 KiB2025-02-06 17:02:35
palomino8-R-instpkgs.html462.5 KiB2025-02-06 17:02:35
palomino8-index.html3.3 MiB2025-02-06 17:12:50
pkg_dep_graph.txt374.5 KiB2025-02-06 17:02:34
report.css11.2 KiB2025-02-06 17:02:35
report.js6.0 KiB2025-02-06 17:02:35
report.tgz108.8 MiB2025-02-06 17:14:43
skipped-index.dcf0 B2025-02-06 17:02:34
taishan-NodeInfo.html7.6 KiB2025-02-06 17:02:35
taishan-R-instpkgs.html457.2 KiB2025-02-06 17:02:35
taishan-index.html2.5 MiB2025-02-06 17:13:06
teran2-NodeInfo.html6.8 KiB2024-11-20 17:00:23
teran2-R-instpkgs.html578.7 KiB2024-11-20 17:00:23
teran2-index.html2.9 MiB2024-11-20 17:08:27