Package: spicyWorkflow Version: 1.4.0 Command: E:\biocbuild\bbs-3.19-bioc\R\bin\R.exe CMD INSTALL spicyWorkflow StartedAt: 2024-10-18 13:01:10 -0400 (Fri, 18 Oct 2024) EndedAt: 2024-10-18 13:02:09 -0400 (Fri, 18 Oct 2024) EllapsedTime: 58.8 seconds RetCode: 0 Status: OK