Package: spicyWorkflow Version: 1.4.0 Command: /Library/Frameworks/R.framework/Resources/bin/R CMD build --keep-empty-dirs --no-resave-data spicyWorkflow StartedAt: 2024-10-18 13:16:26 -0400 (Fri, 18 Oct 2024) EndedAt: 2024-10-18 13:47:56 -0400 (Fri, 18 Oct 2024) EllapsedTime: 1890.6 seconds RetCode: 1 Status: ERROR PackageFile: None PackageFileSize: NA