Package: rnaseqDTU Version: 1.24.0 Command: chmod a+r rnaseqDTU -R && E:\biocbuild\bbs-3.19-bioc\R\bin\R.exe CMD build --keep-empty-dirs --no-resave-data rnaseqDTU StartedAt: 2024-10-18 13:12:21 -0400 (Fri, 18 Oct 2024) EndedAt: 2024-10-18 13:14:42 -0400 (Fri, 18 Oct 2024) EllapsedTime: 140.6 seconds RetCode: 0 Status: OK PackageFile: rnaseqDTU_1.24.0.tar.gz PackageFileSize: 8.155 MiB