Package: methylationArrayAnalysis Version: 1.28.0 Command: chmod a+r methylationArrayAnalysis -R && F:\biocbuild\bbs-3.19-bioc\R\bin\R.exe CMD build --keep-empty-dirs --no-resave-data methylationArrayAnalysis StartedAt: 2024-06-28 13:09:37 -0400 (Fri, 28 Jun 2024) EndedAt: 2024-06-28 13:26:24 -0400 (Fri, 28 Jun 2024) EllapsedTime: 1007.8 seconds RetCode: 0 Status: OK PackageFile: methylationArrayAnalysis_1.28.0.tar.gz PackageFileSize: 217.6 MiB