Package: methylationArrayAnalysis Version: 1.28.0 Command: /Library/Frameworks/R.framework/Resources/bin/R CMD INSTALL methylationArrayAnalysis StartedAt: 2024-10-18 13:01:14 -0400 (Fri, 18 Oct 2024) EndedAt: 2024-10-18 13:03:42 -0400 (Fri, 18 Oct 2024) EllapsedTime: 148.7 seconds RetCode: 0 Status: OK