Package: arrays Version: 1.30.0 Command: chmod a+r arrays -R && F:\biocbuild\bbs-3.19-bioc\R\bin\R.exe CMD build --keep-empty-dirs --no-resave-data arrays StartedAt: 2024-06-28 13:05:50 -0400 (Fri, 28 Jun 2024) EndedAt: 2024-06-28 13:06:19 -0400 (Fri, 28 Jun 2024) EllapsedTime: 29.5 seconds RetCode: 0 Status: OK PackageFile: arrays_1.30.0.tar.gz PackageFileSize: 9.64 MiB