Package: ExpressionNormalizationWorkflow Version: 1.30.0 Command: /home/biocbuild/bbs-3.19-bioc/R/bin/R CMD INSTALL ExpressionNormalizationWorkflow StartedAt: 2024-10-18 13:00:18 -0400 (Fri, 18 Oct 2024) EndedAt: 2024-10-18 13:00:39 -0400 (Fri, 18 Oct 2024) EllapsedTime: 21.1 seconds RetCode: 0 Status: OK