Package: ExpHunterSuite Version: 1.12.0 Command: /Library/Frameworks/R.framework/Resources/bin/R CMD INSTALL ExpHunterSuite StartedAt: 2024-10-18 13:01:54 -0400 (Fri, 18 Oct 2024) EndedAt: 2024-10-18 13:03:23 -0400 (Fri, 18 Oct 2024) EllapsedTime: 89.0 seconds RetCode: 0 Status: OK