Package: ExpHunterSuite Version: 1.12.0 Command: /Library/Frameworks/R.framework/Resources/bin/R CMD build --keep-empty-dirs --no-resave-data ExpHunterSuite StartedAt: 2024-10-18 13:04:10 -0400 (Fri, 18 Oct 2024) EndedAt: 2024-10-18 13:08:51 -0400 (Fri, 18 Oct 2024) EllapsedTime: 280.5 seconds RetCode: 0 Status: OK PackageFile: ExpHunterSuite_1.12.0.tar.gz PackageFileSize: 4.112 MiB