Package: EGSEA123 Version: 1.28.0 Command: chmod a+r EGSEA123 -R && F:\biocbuild\bbs-3.19-bioc\R\bin\R.exe CMD build --keep-empty-dirs --no-resave-data EGSEA123 StartedAt: 2024-06-28 13:05:50 -0400 (Fri, 28 Jun 2024) EndedAt: 2024-06-28 13:16:50 -0400 (Fri, 28 Jun 2024) EllapsedTime: 660.1 seconds RetCode: 0 Status: OK PackageFile: EGSEA123_1.28.0.tar.gz PackageFileSize: 1.476 MiB