Package: EGSEA123 Version: 1.28.0 Command: /Library/Frameworks/R.framework/Resources/bin/R CMD INSTALL EGSEA123 StartedAt: 2024-10-18 13:01:07 -0400 (Fri, 18 Oct 2024) EndedAt: 2024-10-18 13:01:47 -0400 (Fri, 18 Oct 2024) EllapsedTime: 40.3 seconds RetCode: 0 Status: OK