Package: tinesath1probe Version: 1.42.0 Maintainer: Tine Casneuf MaintainerEmail: tine at ebi.ac.uk git_url: https://git.bioconductor.org/packages/tinesath1probe git_branch: RELEASE_3_19 git_last_commit: 79605be git_last_commit_date: 2024-04-30 10:28:30 -0400 (Tue, 30 Apr 2024)