Package: prostateCancerStockholm Version: 1.32.0 Maintainer: Mark Dunning MaintainerEmail: mark.dunning at cruk.cam.ac.uk git_url: https://git.bioconductor.org/packages/prostateCancerStockholm git_branch: RELEASE_3_19 git_last_commit: 40c78f1 git_last_commit_date: 2024-04-30 10:46:21 -0400 (Tue, 30 Apr 2024)