Package: muscData Version: 1.18.0 Command: /home/biocbuild/bbs-3.19-bioc/R/bin/R CMD build --keep-empty-dirs --no-resave-data muscData StartedAt: 2024-10-17 10:42:27 -0400 (Thu, 17 Oct 2024) EndedAt: 2024-10-17 10:43:25 -0400 (Thu, 17 Oct 2024) EllapsedTime: 57.8 seconds RetCode: 0 Status: OK PackageFile: muscData_1.18.0.tar.gz PackageFileSize: 230.4 KiB