Package: healthyControlsPresenceChecker Version: 1.8.0 Command: /home/biocbuild/bbs-3.19-bioc/R/bin/R CMD check --install=check:healthyControlsPresenceChecker.install-out.txt --library=/home/biocbuild/bbs-3.19-bioc/R/site-library --timings healthyControlsPresenceChecker_1.8.0.tar.gz StartedAt: 2024-10-17 11:30:44 -0400 (Thu, 17 Oct 2024) EndedAt: 2024-10-17 11:32:33 -0400 (Thu, 17 Oct 2024) EllapsedTime: 109.7 seconds RetCode: 0 Status: OK CheckDir: healthyControlsPresenceChecker.Rcheck Warnings: 0