Package: hapmapsnp5 Version: 1.46.0 Command: /home/biocbuild/bbs-3.19-bioc/R/bin/R CMD check --install=check:hapmapsnp5.install-out.txt --library=/home/biocbuild/bbs-3.19-bioc/R/site-library --timings hapmapsnp5_1.46.0.tar.gz StartedAt: 2024-10-17 11:29:59 -0400 (Thu, 17 Oct 2024) EndedAt: 2024-10-17 11:30:17 -0400 (Thu, 17 Oct 2024) EllapsedTime: 18.3 seconds RetCode: 0 Status: OK CheckDir: hapmapsnp5.Rcheck Warnings: 0