Package: hapmapsnp5 Version: 1.46.0 Command: /home/biocbuild/bbs-3.19-bioc/R/bin/R CMD build --keep-empty-dirs --no-resave-data hapmapsnp5 StartedAt: 2024-10-17 10:30:38 -0400 (Thu, 17 Oct 2024) EndedAt: 2024-10-17 10:32:30 -0400 (Thu, 17 Oct 2024) EllapsedTime: 112.2 seconds RetCode: 0 Status: OK PackageFile: hapmapsnp5_1.46.0.tar.gz PackageFileSize: 59.41 MiB