Package: curatedAdipoRNA Version: 1.20.0 Command: /home/biocbuild/bbs-3.19-bioc/R/bin/R CMD check --install=check:curatedAdipoRNA.install-out.txt --library=/home/biocbuild/bbs-3.19-bioc/R/site-library --timings curatedAdipoRNA_1.20.0.tar.gz StartedAt: 2024-10-17 11:11:15 -0400 (Thu, 17 Oct 2024) EndedAt: 2024-10-17 11:13:32 -0400 (Thu, 17 Oct 2024) EllapsedTime: 137.0 seconds RetCode: 0 Status: WARNINGS CheckDir: curatedAdipoRNA.Rcheck Warnings: 1