Package: biscuiteerData Version: 1.18.0 Command: /home/biocbuild/bbs-3.19-bioc/R/bin/R CMD INSTALL biscuiteerData StartedAt: 2024-10-17 10:04:03 -0400 (Thu, 17 Oct 2024) EndedAt: 2024-10-17 10:04:23 -0400 (Thu, 17 Oct 2024) EllapsedTime: 19.4 seconds RetCode: 0 Status: OK