Package: TENxPBMCData Version: 1.22.0 Command: /home/biocbuild/bbs-3.19-bioc/R/bin/R CMD build --keep-empty-dirs --no-resave-data TENxPBMCData StartedAt: 2024-10-17 10:55:52 -0400 (Thu, 17 Oct 2024) EndedAt: 2024-10-17 10:58:08 -0400 (Thu, 17 Oct 2024) EllapsedTime: 136.2 seconds RetCode: 0 Status: OK PackageFile: TENxPBMCData_1.22.0.tar.gz PackageFileSize: 299.6 KiB