Package: NanoporeRNASeq Version: 1.14.0 Maintainer: Ying Chen MaintainerEmail: chen_ying at gis.a-star.edu.sg git_url: https://git.bioconductor.org/packages/NanoporeRNASeq git_branch: RELEASE_3_19 git_last_commit: ca3b82a git_last_commit_date: 2024-04-30 11:07:52 -0400 (Tue, 30 Apr 2024)