Package: LungCancerACvsSCCGEO Version: 1.40.0 Command: /home/biocbuild/bbs-3.19-bioc/R/bin/R CMD check --install=check:LungCancerACvsSCCGEO.install-out.txt --library=/home/biocbuild/bbs-3.19-bioc/R/site-library --timings LungCancerACvsSCCGEO_1.40.0.tar.gz StartedAt: 2024-10-17 11:38:52 -0400 (Thu, 17 Oct 2024) EndedAt: 2024-10-17 11:39:13 -0400 (Thu, 17 Oct 2024) EllapsedTime: 20.3 seconds RetCode: 0 Status: OK CheckDir: LungCancerACvsSCCGEO.Rcheck Warnings: 0