Package: HMP2Data Version: 1.18.0 Command: /home/biocbuild/bbs-3.19-bioc/R/bin/R CMD check --install=check:HMP2Data.install-out.txt --library=/home/biocbuild/bbs-3.19-bioc/R/site-library --timings HMP2Data_1.18.0.tar.gz StartedAt: 2024-10-17 11:34:04 -0400 (Thu, 17 Oct 2024) EndedAt: 2024-10-17 11:38:52 -0400 (Thu, 17 Oct 2024) EllapsedTime: 287.5 seconds RetCode: 0 Status: OK CheckDir: HMP2Data.Rcheck Warnings: 0