Package: GeuvadisTranscriptExpr Version: 1.32.0 Maintainer: Malgorzata Nowicka MaintainerEmail: gosia.nowicka at uzh.ch git_url: https://git.bioconductor.org/packages/GeuvadisTranscriptExpr git_branch: RELEASE_3_19 git_last_commit: 5f101c7 git_last_commit_date: 2024-04-30 10:46:43 -0400 (Tue, 30 Apr 2024)