Package: CluMSIDdata Version: 1.20.0 Command: /home/biocbuild/bbs-3.19-bioc/R/bin/R CMD check --install=check:CluMSIDdata.install-out.txt --library=/home/biocbuild/bbs-3.19-bioc/R/site-library --timings CluMSIDdata_1.20.0.tar.gz StartedAt: 2024-10-17 11:09:01 -0400 (Thu, 17 Oct 2024) EndedAt: 2024-10-17 11:09:13 -0400 (Thu, 17 Oct 2024) EllapsedTime: 12.0 seconds RetCode: 0 Status: OK CheckDir: CluMSIDdata.Rcheck Warnings: 0