Package: CCl4 Version: 1.42.0 Maintainer: Audrey Kauffmann MaintainerEmail: audrey at ebi.ac.uk git_url: https://git.bioconductor.org/packages/CCl4 git_branch: RELEASE_3_19 git_last_commit: 12d75b5 git_last_commit_date: 2024-04-30 10:28:02 -0400 (Tue, 30 Apr 2024)