Package: BloodCancerMultiOmics2017 Version: 1.24.0 Command: /home/biocbuild/bbs-3.19-bioc/R/bin/R CMD check --install=check:BloodCancerMultiOmics2017.install-out.txt --library=/home/biocbuild/bbs-3.19-bioc/R/site-library --timings BloodCancerMultiOmics2017_1.24.0.tar.gz StartedAt: 2024-10-17 11:02:49 -0400 (Thu, 17 Oct 2024) EndedAt: 2024-10-17 11:34:06 -0400 (Thu, 17 Oct 2024) EllapsedTime: 1876.9 seconds RetCode: 0 Status: WARNINGS CheckDir: BloodCancerMultiOmics2017.Rcheck Warnings: 1