Package: rGenomeTracksData Version: 0.99.0 Command: /home/biocbuild/bbs-3.19-bioc/R/bin/R CMD check --install=check:rGenomeTracksData.install-out.txt --library=/home/biocbuild/bbs-3.19-bioc/R/site-library --timings rGenomeTracksData_0.99.0.tar.gz StartedAt: 2024-10-16 06:34:59 -0400 (Wed, 16 Oct 2024) EndedAt: 2024-10-16 06:35:36 -0400 (Wed, 16 Oct 2024) EllapsedTime: 36.6 seconds RetCode: 0 Status: OK CheckDir: rGenomeTracksData.Rcheck Warnings: 0