Package: org.Mxanthus.db Version: 1.0.27 Command: /home/biocbuild/bbs-3.19-bioc/R/bin/R CMD check --install=check:org.Mxanthus.db.install-out.txt --library=/home/biocbuild/bbs-3.19-bioc/R/site-library --timings org.Mxanthus.db_1.0.27.tar.gz StartedAt: 2024-10-16 06:34:44 -0400 (Wed, 16 Oct 2024) EndedAt: 2024-10-16 06:37:16 -0400 (Wed, 16 Oct 2024) EllapsedTime: 152.3 seconds RetCode: 0 Status: WARNINGS CheckDir: org.Mxanthus.db.Rcheck Warnings: 1