Package: metaboliteIDmapping Version: 0.99.10 Command: /home/biocbuild/bbs-3.19-bioc/R/bin/R CMD build --keep-empty-dirs --no-resave-data metaboliteIDmapping StartedAt: 2024-10-16 06:32:03 -0400 (Wed, 16 Oct 2024) EndedAt: 2024-10-16 06:33:21 -0400 (Wed, 16 Oct 2024) EllapsedTime: 78.5 seconds RetCode: 0 Status: OK PackageFile: metaboliteIDmapping_0.99.10.tar.gz PackageFileSize: 312.4 KiB