Package: alternativeSplicingEvents.hg19 Version: 1.1.0 Command: /home/biocbuild/bbs-3.19-bioc/R/bin/R CMD INSTALL alternativeSplicingEvents.hg19 StartedAt: 2024-10-16 06:30:12 -0400 (Wed, 16 Oct 2024) EndedAt: 2024-10-16 06:30:21 -0400 (Wed, 16 Oct 2024) EllapsedTime: 8.8 seconds RetCode: 0 Status: OK