Package: alternativeSplicingEvents.hg19 Version: 1.1.0 Command: /home/biocbuild/bbs-3.19-bioc/R/bin/R CMD build --keep-empty-dirs --no-resave-data alternativeSplicingEvents.hg19 StartedAt: 2024-10-16 06:31:12 -0400 (Wed, 16 Oct 2024) EndedAt: 2024-10-16 06:31:14 -0400 (Wed, 16 Oct 2024) EllapsedTime: 1.3 seconds RetCode: 0 Status: OK PackageFile: alternativeSplicingEvents.hg19_1.1.0.tar.gz PackageFileSize: 18.68 KiB