Package: CTCF Version: 0.99.11 Command: /home/biocbuild/bbs-3.19-bioc/R/bin/R CMD build --keep-empty-dirs --no-resave-data CTCF StartedAt: 2024-10-16 06:31:12 -0400 (Wed, 16 Oct 2024) EndedAt: 2024-10-16 06:32:12 -0400 (Wed, 16 Oct 2024) EllapsedTime: 59.3 seconds RetCode: 0 Status: OK PackageFile: CTCF_0.99.11.tar.gz PackageFileSize: 3.011 MiB