Package: csawBook Version: 1.12.0 Command: rm -rf csawBook.book && mkdir csawBook.book && /home/biocbuild/BBS/utils/deploy_book.py csawBook_1.12.0.tar.gz csawBook.book StartedAt: 2024-10-11 09:37:09 -0400 (Fri, 11 Oct 2024) EndedAt: 2024-10-11 09:37:10 -0400 (Fri, 11 Oct 2024) EllapsedTime: 1.0 seconds RetCode: 0 Status: OK DeployDestDir: csawBook.book Warnings: 0