Package: SingleRBook Version: 1.14.0 Maintainer: Aaron Lun MaintainerEmail: infinite.monkeys.with.keyboards at gmail.com git_url: https://git.bioconductor.org/packages/SingleRBook git_branch: RELEASE_3_19 git_last_commit: cfd1b54 git_last_commit_date: 2024-04-30 10:23:12 -0400 (Tue, 30 Apr 2024)