Package: OSCA Version: 1.14.0 Command: /home/biocbuild/bbs-3.19-bioc/R/bin/R CMD INSTALL OSCA StartedAt: 2024-10-18 07:30:09 -0400 (Fri, 18 Oct 2024) EndedAt: 2024-10-18 07:30:11 -0400 (Fri, 18 Oct 2024) EllapsedTime: 2.5 seconds RetCode: 0 Status: OK