Package: rhdf5 Version: 2.48.0 Command: E:\biocbuild\bbs-3.19-bioc\R\bin\R.exe CMD check --no-multiarch --test-dir=longtests --no-stop-on-test-error --no-codoc --no-examples --no-manual --ignore-vignettes --check-subdirs=no rhdf5_2.48.0.tar.gz StartedAt: 2024-10-12 16:46:54 -0400 (Sat, 12 Oct 2024) EndedAt: 2024-10-12 16:49:38 -0400 (Sat, 12 Oct 2024) EllapsedTime: 163.1 seconds RetCode: 0 Status: WARNINGS CheckDir: rhdf5.Rcheck Warnings: 1