Package: rhdf5 Version: 2.48.0 Command: F:\biocbuild\bbs-3.19-bioc\R\bin\R.exe CMD check --no-multiarch --test-dir=longtests --no-stop-on-test-error --no-codoc --no-examples --no-manual --ignore-vignettes --check-subdirs=no rhdf5_2.48.0.tar.gz StartedAt: 2024-06-22 17:13:08 -0400 (Sat, 22 Jun 2024) EndedAt: 2024-06-22 17:20:41 -0400 (Sat, 22 Jun 2024) EllapsedTime: 452.5 seconds RetCode: 0 Status: WARNINGS CheckDir: rhdf5.Rcheck Warnings: 1