| Back to Long Tests report for BioC 3.19 |
This page was generated on 2024-10-12 23:55 -0400 (Sat, 12 Oct 2024).
| QUICK STATS | OS / Arch | CHECK | |||||||
| nebbiolo1 | Linux (Ubuntu 22.04.3 LTS) / x86_64 |
| |||||||
| palomino7 | Windows Server 2022 Datacenter / x64 |
| |||||||
| merida1 | macOS 12.7.5 Monterey / x86_64 |
| |||||||
| Package | Maintainer | CHECK | |||||||
| 1/33 | APAlyzer 1.18.0 (landing page) | Ruijia Wang | ERROR | ||||||
| 2/33 | autonomics 1.12.1 (landing page) | Aditya Bhagwat | ERROR | ||||||
| 3/33 | basilisk 1.16.0 (landing page) | Aaron Lun | OK | ||||||
| 4/33 | beachmat 2.20.0 (landing page) | Aaron Lun | ERROR | ||||||
| 5/33 | biodb 1.12.0 (landing page) | Pierrick Roger | ERROR | ||||||
| 6/33 | biodbChebi 1.10.0 (landing page) | Pierrick Roger | OK | ||||||
| 7/33 | biodbExpasy 1.8.1 (landing page) | Pierrick Roger | ERROR | ||||||
| 8/33 | biodbHmdb 1.10.2 (landing page) | Pierrick Roger | OK | ||||||
| 9/33 | biodbKegg 1.10.2 (landing page) | Pierrick Roger | ERROR | ||||||
| 10/33 | Pierrick Roger | OK | |||||||
| 11/33 | biodbNcbi 1.8.0 (landing page) | Pierrick Roger | WARNINGS | ||||||
| 12/33 | biodbNci 1.8.0 (landing page) | Pierrick Roger | OK | ||||||
| 13/33 | biodbUniprot 1.10.0 (landing page) | Pierrick Roger | OK | ||||||
| 14/33 | cBioPortalData 2.16.0 (landing page) | Marcel Ramos | OK | ||||||
| 15/33 | ChromSCape 1.14.0 (landing page) | Pacome Prompsy | ERROR | ||||||
| 16/33 | clusterExperiment 2.24.0 (landing page) | Elizabeth Purdom | ERROR | ||||||
| 17/33 | CRISPRball 1.0.0 (landing page) | Jared Andrews | OK | ||||||
| 18/33 | crisprScore 1.8.0 (landing page) | Jean-Philippe Fortin | OK | ||||||
| 19/33 | DelayedMatrixStats 1.26.0 (landing page) | Peter Hickey | OK | ||||||
| 20/33 | DropletUtils 1.24.0 (landing page) | Jonathan Griffiths | OK | ||||||
| 21/33 | EpiMix 1.6.1 (landing page) | Yuanning Zheng | OK | ||||||
| 22/33 | extraChIPs 1.8.5 (landing page) | Stevie Pederson | OK | ||||||
| 23/33 | GenomicFeatures 1.56.0 (landing page) | H. Pagès | WARNINGS | ||||||
| 24/33 | ginmappeR 1.0.5 (landing page) | Fernando Sola | OK | ||||||
| 25/33 | HDF5Array 1.32.1 (landing page) | Hervé Pagès | WARNINGS | ||||||
| 26/33 | midasHLA 1.12.0 (landing page) | Maciej Migdał | ERROR | ||||||
| 27/33 | mosdef 1.0.0 (landing page) | Federico Marini | OK | ||||||
| 28/33 | MungeSumstats 1.12.2 (landing page) | Alan Murphy | OK | ||||||
| 29/33 | rhdf5 2.48.0 (landing page) | Mike Smith | WARNINGS | ||||||
| 30/33 | SimBu 1.6.0 (landing page) | Alexander Dietrich | ERROR | ||||||
| 31/33 | TENxIO 1.6.1 (landing page) | Marcel Ramos | ERROR | ||||||
| 32/33 | xcms 4.2.3 (landing page) | Steffen Neumann | ERROR | ||||||
| 33/33 | zellkonverter 1.14.1 (landing page) | Luke Zappia | ERROR | ||||||