| Back to Long Tests report for BioC 3.19 | 
This page was generated on 2023-11-18 21:30:01 -0500 (Sat, 18 Nov 2023).
| Hostname | OS | Arch (*) | R version | Installed pkgs | 
|---|---|---|---|---|
| nebbiolo1 | Linux (Ubuntu 22.04.2 LTS) | x86_64 | R Under development (unstable) (2023-11-11 r85510) -- "Unsuffered Consequences" | 4559 | 
| palomino3 | Windows Server 2022 Datacenter | x64 | R Under development (unstable) (2023-11-14 r85524 ucrt) -- "Unsuffered Consequences" | 4332 | 
| merida1 | macOS 12.7.1 Monterey | x86_64 | R Under development (unstable) (2023-11-11 r85510) -- "Unsuffered Consequences" | 4360 | 
| Click on any hostname to see more info about the system (e.g. compilers) (*) as reported by 'uname -p', except on Windows and Mac OS X | ||||
| Package 24/29 | Hostname | OS / Arch | CHECK | |||||||
| midasHLA 1.11.0  (landing page) Maciej Migdał 
  | nebbiolo1 | Linux (Ubuntu 22.04.2 LTS) / x86_64 | ERROR | |||||||
| palomino3 | Windows Server 2022 Datacenter / x64 | NA | ||||||||
| merida1 | macOS 12.7.1 Monterey / x86_64 | NA | ||||||||
| 
To the developers/maintainers of the midasHLA package: - Use the following Renviron settings to reproduce errors and warnings. - If 'R CMD check' started to fail recently on the Linux builder(s) over a missing dependency, add the missing dependency to 'Suggests:' in your DESCRIPTION file. See Renviron.bioc for more information.  | 
| Package: midasHLA | 
| Version: 1.11.0 | 
| Command: /home/biocbuild/bbs-3.19-bioc/R/bin/R CMD build --keep-empty-dirs --no-resave-data --no-build-vignettes --no-manual midasHLA | 
| StartedAt: 2023-11-18 11:00:18 -0500 (Sat, 18 Nov 2023) | 
| EndedAt: 2023-11-18 11:00:19 -0500 (Sat, 18 Nov 2023) | 
| EllapsedTime: 1.6 seconds | 
| RetCode: 0 | 
| Status: OK | 
| PackageFile: midasHLA_1.11.0.tar.gz | 
| PackageFileSize: 1.706 MiB | 
############################################################################## ############################################################################## ### ### Running command: ### ### /home/biocbuild/bbs-3.19-bioc/R/bin/R CMD build --keep-empty-dirs --no-resave-data --no-build-vignettes --no-manual midasHLA ### ############################################################################## ############################################################################## * checking for file ‘midasHLA/DESCRIPTION’ ... OK * preparing ‘midasHLA’: * checking DESCRIPTION meta-information ... OK * checking for LF line-endings in source and make files and shell scripts * checking for empty or unneeded directories * building ‘midasHLA_1.11.0.tar.gz’