Package: ginmappeR Version: 1.0.5 Command: /home/biocbuild/bbs-3.19-bioc/R/bin/R CMD check --test-dir=longtests --no-stop-on-test-error --no-codoc --no-examples --no-manual --ignore-vignettes --check-subdirs=no ginmappeR_1.0.5.tar.gz StartedAt: 2024-10-12 16:22:48 -0400 (Sat, 12 Oct 2024) EndedAt: 2024-10-12 16:45:54 -0400 (Sat, 12 Oct 2024) EllapsedTime: 1386.0 seconds RetCode: 0 Status: OK CheckDir: ginmappeR.Rcheck Warnings: 0