Package: cBioPortalData Version: 2.16.0 Command: F:\biocbuild\bbs-3.19-bioc\R\bin\R.exe CMD check --no-multiarch --test-dir=longtests --no-stop-on-test-error --no-codoc --no-examples --no-manual --ignore-vignettes --check-subdirs=no cBioPortalData_2.16.0.tar.gz StartedAt: 2024-06-22 16:20:43 -0400 (Sat, 22 Jun 2024) EndedAt: 2024-06-22 19:58:44 -0400 (Sat, 22 Jun 2024) EllapsedTime: 13080.4 seconds RetCode: 0 Status: OK CheckDir: cBioPortalData.Rcheck Warnings: 0