Package: biodbKegg Version: 1.10.2 Command: E:\biocbuild\bbs-3.19-bioc\R\bin\R.exe CMD check --no-multiarch --test-dir=longtests --no-stop-on-test-error --no-codoc --no-examples --no-manual --ignore-vignettes --check-subdirs=no biodbKegg_1.10.2.tar.gz StartedAt: 2024-10-12 16:03:30 -0400 (Sat, 12 Oct 2024) EndedAt: 2024-10-12 16:08:43 -0400 (Sat, 12 Oct 2024) EllapsedTime: 313.0 seconds RetCode: 1 Status: ERROR CheckDir: biodbKegg.Rcheck Warnings: NA