Package: biodbHmdb Version: 1.10.2 Command: E:\biocbuild\bbs-3.19-bioc\R\bin\R.exe CMD check --no-multiarch --test-dir=longtests --no-stop-on-test-error --no-codoc --no-examples --no-manual --ignore-vignettes --check-subdirs=no biodbHmdb_1.10.2.tar.gz StartedAt: 2024-10-12 16:02:39 -0400 (Sat, 12 Oct 2024) EndedAt: 2024-10-12 16:57:15 -0400 (Sat, 12 Oct 2024) EllapsedTime: 3276.0 seconds RetCode: 0 Status: OK CheckDir: biodbHmdb.Rcheck Warnings: 0