Package: biodbHmdb Version: 1.10.2 Command: /Library/Frameworks/R.framework/Resources/bin/R CMD check --test-dir=longtests --no-stop-on-test-error --no-codoc --no-examples --no-manual --ignore-vignettes --check-subdirs=no biodbHmdb_1.10.2.tar.gz StartedAt: 2024-10-12 16:01:31 -0400 (Sat, 12 Oct 2024) EndedAt: 2024-10-12 16:28:13 -0400 (Sat, 12 Oct 2024) EllapsedTime: 1602.5 seconds RetCode: 0 Status: OK CheckDir: biodbHmdb.Rcheck Warnings: 0